Workbook
Name buski: katalog_gmin_PL26!$C$113:$C$120
Name gminy: #REF!
Name jednostka: #REF!
Name jędrzejowski: katalog_gmin_PL26!$D$113:$D$121
Name kazimierski: katalog_gmin_PL26!$E$113:$E$117
Name Kielce: katalog_gmin_PL26!$B$113
Name kielecki: katalog_gmin_PL26!$F$113:$F$131
Name kod_efektu: wskaźniki_efektu!$A$5:$A$16
Name kod_zadania_CZM: #REF!
Name kod_zadania_ZK: #REF!
Name konecki: katalog_gmin_PL26!$G$113:$G$120
Name las: [1]Listy!$A$1:$A$2
Name monit_ZSO: wskaźniki_efektu!$B$21:$B$34
Name nazwy_gmin: gminy_26[nazwa gminy]
Name nazwy_gmin: gminy_26[nazwa gminy]
Name nazwy_gmin: gminy_26[nazwa gminy]
Name nazwy_gmin: gminy_26[nazwa gminy]
Name nazwy_gmin: gminy_26[nazwa gminy]
Name nazwy_gmin: gminy_26[nazwa gminy]
Name nazwy_gmin: gminy_26[nazwa gminy]
Name nazwy_gmin: gminy_26[nazwa gminy]
Name nazwy_powiaty: katalogi!$B$3:$B$16
Name opatowski: katalog_gmin_PL26!$H$113:$H$120
Name ostrowiecki: katalog_gmin_PL26!$I$113:$I$118
Name pińczowski: katalog_gmin_PL26!$J$113:$J$117
Name Powiaty: katalog_gmin_PL26!$A$113:$A$126
Name sandomierski: katalog_gmin_PL26!$K$113:$K$121
Name skarżyski: katalog_gmin_PL26!$L$113:$L$117
Name starachowicki: katalog_gmin_PL26!$M$113:$M$117
Name staszowski: katalog_gmin_PL26!$N$113:$N$120
Name strefa_PL2401: #REF!
Name strefa_PL2402: #REF!
Name strefa_PL2403: #REF!
Name strefa_PL2404: #REF!
Name strefa_PL2405: #REF!
Name włoszczowski: katalog_gmin_PL26!$O$113:$O$118

Sheet katalogi
A1: 1 | B1: =A1+1 -> 2 | C1: =B1+1 -> 3 | D1: =C1+1 -> 4 | E1: =D1+1 -> 5 | F1: =E1+1 -> 6 | G1: =F1+1 -> 7 | H1: =G1+1 -> 8 | I1: =H1+1 -> 9 | ... O1: =N1+1 -> 15
A2: kod powiatu | B2: powiat | C2: kod powiatu2 | D2: kod strefy | E2: nazwa strefy | F2: województwo | H2: kod strefy | I2: nazwa strefy | J2: województo | K2: do tabel sprawozdawczych | M2: kod zadania | N2: nazwa zadania
A3: 2601 | B3: buski | C3: =powiaty_26[[#This Row],[kod powiatu]] -> 2601 | D3: PL2602 | E3: =VLOOKUP(powiaty_26[[#This Row],[kod strefy]],strefy_26[],2,FALSE) -> strefa świętokrzyska | F3: świętokrzyskie | H3: PL2601 | I3: miasto Kielce | J3: świętokrzyskie | K3: =CONCATENATE(I3," ",H3) -> miasto Kielce PL2601 | M3: PL2601_ZSO | N3: Ograniczenie emisji z instalacji o małej mocy do 1 MW, w których następuje spalanie paliw stałych
A4: 2602 | B4: jędrzejowski | C4: =powiaty_26[[#This Row],[kod powiatu]] -> 2602 | D4: PL2602 | E4: =VLOOKUP(powiaty_26[[#This Row],[kod strefy]],strefy_26[],2,FALSE) -> strefa świętokrzyska | F4: świętokrzyskie | H4: PL2602 | I4: strefa świętokrzyska | J4: świętokrzyskie | K4: =CONCATENATE(I4," ",H4) -> strefa świętokrzyska PL2602 | M4: PL2601_EE | N4: Prowadzenie działań promocyjnych i edukacyjnych (ulotki, imprezy, akcje szkolne, audycje, konferencje) oraz informacyjnych i szkoleniowych
A5: 2603 | B5: kazimierski | C5: =powiaty_26[[#This Row],[kod powiatu]] -> 2603 | D5: PL2602 | E5: =VLOOKUP(powiaty_26[[#This Row],[kod strefy]],strefy_26[],2,FALSE) -> strefa świętokrzyska | F5: świętokrzyskie | M5: PL2601_KPP | N5: Prowadzenie kontroli przestrzegania przepisów ograniczających używanie paliw lub urządzeń do celów grzewczych oraz zakazu spalania odpadów
A6: 2604 | B6: kielecki | C6: =powiaty_26[[#This Row],[kod powiatu]] -> 2604 | D6: PL2602 | E6: =VLOOKUP(powiaty_26[[#This Row],[kod strefy]],strefy_26[],2,FALSE) -> strefa świętokrzyska | F6: świętokrzyskie | M6: PL2601_BDO | N6: Ograniczenie oddziaływania transportu drogowego poprzez wyprowadzenie ruchu tranzytowego poza tereny miejskie
A7: 2605 | B7: konecki | C7: =powiaty_26[[#This Row],[kod powiatu]] -> 2605 | D7: PL2602 | E7: =VLOOKUP(powiaty_26[[#This Row],[kod strefy]],strefy_26[],2,FALSE) -> strefa świętokrzyska | F7: świętokrzyskie | M7: PL2602_ZSO | N7: Ograniczenie emisji z instalacji o małej mocy do 1 MW, w których następuje spalanie paliw stałych
A8: 2606 | B8: opatowski | C8: =powiaty_26[[#This Row],[kod powiatu]] -> 2606 | D8: PL2602 | E8: =VLOOKUP(powiaty_26[[#This Row],[kod strefy]],strefy_26[],2,FALSE) -> strefa świętokrzyska | F8: świętokrzyskie | M8: PL2602_EE | N8: Prowadzenie działań promocyjnych i edukacyjnych (ulotki, imprezy, akcje szkolne, audycje, konferencje) oraz informacyjnych i szkoleniowych
A9: 2607 | B9: ostrowiecki | C9: =powiaty_26[[#This Row],[kod powiatu]] -> 2607 | D9: PL2602 | E9: =VLOOKUP(powiaty_26[[#This Row],[kod strefy]],strefy_26[],2,FALSE) -> strefa świętokrzyska | F9: świętokrzyskie | M9: PL2602_KPP | N9: Prowadzenie kontroli przestrzegania przepisów ograniczających używanie paliw lub urządzeń do celów grzewczych oraz zakazu spalania odpadów
A10: 2608 | B10: pińczowski | C10: =powiaty_26[[#This Row],[kod powiatu]] -> 2608 | D10: PL2602 | E10: =VLOOKUP(powiaty_26[[#This Row],[kod strefy]],strefy_26[],2,FALSE) -> strefa świętokrzyska | F10: świętokrzyskie | M10: PL2602_BDO | N10: Ograniczenie oddziaływania transportu drogowego poprzez wyprowadzenie ruchu tranzytowego poza tereny miejskie
A11: 2609 | B11: sandomierski | C11: =powiaty_26[[#This Row],[kod powiatu]] -> 2609 | D11: PL2602 | E11: =VLOOKUP(powiaty_26[[#This Row],[kod strefy]],strefy_26[],2,FALSE) -> strefa świętokrzyska | F11: świętokrzyskie
A12: 2610 | B12: skarżyski | C12: =powiaty_26[[#This Row],[kod powiatu]] -> 2610 | D12: PL2602 | E12: =VLOOKUP(powiaty_26[[#This Row],[kod strefy]],strefy_26[],2,FALSE) -> strefa świętokrzyska | F12: świętokrzyskie
A13: 2611 | B13: starachowicki | C13: =powiaty_26[[#This Row],[kod powiatu]] -> 2611 | D13: PL2602 | E13: =VLOOKUP(powiaty_26[[#This Row],[kod strefy]],strefy_26[],2,FALSE) -> strefa świętokrzyska | F13: świętokrzyskie
A14: 2612 | B14: staszowski | C14: =powiaty_26[[#This Row],[kod powiatu]] -> 2612 | D14: PL2602 | E14: =VLOOKUP(powiaty_26[[#This Row],[kod strefy]],strefy_26[],2,FALSE) -> strefa świętokrzyska | F14: świętokrzyskie
A15: 2613 | B15: włoszczowski | C15: =powiaty_26[[#This Row],[kod powiatu]] -> 2613 | D15: PL2602 | E15: =VLOOKUP(powiaty_26[[#This Row],[kod strefy]],strefy_26[],2,FALSE) -> strefa świętokrzyska | F15: świętokrzyskie
A16: 2661 | B16: Kielce | C16: =powiaty_26[[#This Row],[kod powiatu]] -> 2661 | D16: PL2601 | E16: =VLOOKUP(powiaty_26[[#This Row],[kod strefy]],strefy_26[],2,FALSE) -> miasto Kielce | F16: świętokrzyskie

Sheet katalog_gmin_PL26
A1: 1 | B1: =A1+1 -> 2 | C1: =B1+1 -> 3 | D1: =C1+1 -> 4 | E1: =D1+1 -> 5 | F1: =E1+1 -> 6 | G1: =F1+1 -> 7 | H1: =G1+1 -> 8 | I1: =H1+1 -> 9 | ... Z1: =Y1+1 -> 26
H2: zadanie ZSO - wymagana powierzchnia, na której należy zmieić sposób ogrzewania [m2] | P2: zadanie EE - wymagana liczba działań edukacyjnych w roku | Q2: zadanie KPP - wymagana liczba kontroli w roku | S2: kod powiatu | T2: 2020 | U2: 2021 | V2: 2022 | W2: 2023 | X2: 2024 | Y2: 2025 | Z2: 2026
A3: kod gminy | B3: nazwa gminy | C3: kod gminy2 | D3: kod powiatu | E3: nazwa powiatu | F3: kod strefy | G3: nazwa strefy | H3: ogółem | I3: 2020 | J3: 2021 | K3: 2022 | L3: 2023 | M3: 2024 | N3: 2025 | O3: 2026 | P3: EE | Q3: KPP | T3: =I$1 -> 9 | U3: =J$1 -> 10 | V3: =K$1 -> 11 | W3: =L$1 -> 12 | X3: =M$1 -> 13 | Y3: =N$1 -> 14 | Z3: =O$1 -> 15
A4: 2661011 | B4: Kielce | C4: =gminy_26[[#This Row],[kod gminy]] -> 2661011 | D4: 2661 | E4: Kielce | F4: PL2601 | G4: =VLOOKUP(gminy_26[[#This Row],[kod strefy]],strefy_26[],2,FALSE) -> miasto Kielce | H4: 469610 | I4: 0 | J4: 37570 | K4: 70440 | L4: 79840 | M4: 93920 | N4: 93920 | O4: 93920 | P4: 1 | Q4: 200 | S4: 2601 | T4: =SUMIFS(gminy_26[2020],gminy_26[kod powiatu],$S4) -> 0 | U4: =SUMIFS(gminy_26[2021],gminy_26[kod powiatu],$S4) -> 25610 | V4: =SUMIFS(gminy_26[2022],gminy_26[kod powiatu],$S4) -> 47970 | W4: =SUMIFS(gminy_26[2023],gminy_26[kod powiatu],$S4) -> 54400 | X4: =SUMIFS(gminy_26[2024],gminy_26[kod powiatu],$S4) -> 151140 | Y4: =SUMIFS(gminy_26[2025],gminy_26[kod powiatu],$S4) -> 151140 | Z4: =SUMIFS(gminy_26[2026],gminy_26[kod powiatu],$S4) -> 180210
A5: 2606012 | B5: Baćkowice | C5: =gminy_26[[#This Row],[kod gminy]] -> 2606012 | D5: 2606 | E5: =VLOOKUP(gminy_26[[#This Row],[kod powiatu]],powiaty_26[],katalogi!$B$1,FALSE) -> opatowski | F5: PL2602 | G5: =VLOOKUP(gminy_26[[#This Row],[kod strefy]],strefy_26[],2,FALSE) -> strefa świętokrzyska | H5: 34360 | I5: 0 | J5: 300 | K5: 550 | L5: 630 | M5: 9940 | N5: 9940 | O5: 13000 | P5: 1 | Q5: 5 | S5: 2602 | T5: =SUMIFS(gminy_26[2020],gminy_26[kod powiatu],$S5) -> 0 | U5: =SUMIFS(gminy_26[2021],gminy_26[kod powiatu],$S5) -> 35820 | V5: =SUMIFS(gminy_26[2022],gminy_26[kod powiatu],$S5) -> 67110 | W5: =SUMIFS(gminy_26[2023],gminy_26[kod powiatu],$S5) -> 76070 | X5: =SUMIFS(gminy_26[2024],gminy_26[kod powiatu],$S5) -> 209790 | Y5: =SUMIFS(gminy_26[2025],gminy_26[kod powiatu],$S5) -> 209790 | Z5: =SUMIFS(gminy_26[2026],gminy_26[kod powiatu],$S5) -> 249900
A6: 2607022 | B6: Bałtów | C6: =gminy_26[[#This Row],[kod gminy]] -> 2607022 | D6: 2607 | E6: =VLOOKUP(gminy_26[[#This Row],[kod powiatu]],powiaty_26[],katalogi!$B$1,FALSE) -> ostrowiecki | F6: PL2602 | G6: =VLOOKUP(gminy_26[[#This Row],[kod strefy]],strefy_26[],2,FALSE) -> strefa świętokrzyska | H6: 37380 | I6: 0 | J6: 1570 | K6: 2930 | L6: 3320 | M6: 9260 | N6: 9260 | O6: 11040 | P6: 1 | Q6: 5 | S6: 2603 | T6: =SUMIFS(gminy_26[2020],gminy_26[kod powiatu],$S6) -> 0 | U6: =SUMIFS(gminy_26[2021],gminy_26[kod powiatu],$S6) -> 6800 | V6: =SUMIFS(gminy_26[2022],gminy_26[kod powiatu],$S6) -> 12710 | W6: =SUMIFS(gminy_26[2023],gminy_26[kod powiatu],$S6) -> 14420 | X6: =SUMIFS(gminy_26[2024],gminy_26[kod powiatu],$S6) -> 64320 | Y6: =SUMIFS(gminy_26[2025],gminy_26[kod powiatu],$S6) -> 64320 | Z6: =SUMIFS(gminy_26[2026],gminy_26[kod powiatu],$S6) -> 80110
A7: 2603012 | B7: Bejsce | C7: =gminy_26[[#This Row],[kod gminy]] -> 2603012 | D7: 2603 | E7: =VLOOKUP(gminy_26[[#This Row],[kod powiatu]],powiaty_26[],katalogi!$B$1,FALSE) -> kazimierski | F7: PL2602 | G7: =VLOOKUP(gminy_26[[#This Row],[kod strefy]],strefy_26[],2,FALSE) -> strefa świętokrzyska | H7: 29250 | I7: 0 | J7: 790 | K7: 1470 | L7: 1670 | M7: 7790 | N7: 7790 | O7: 9740 | P7: 1 | Q7: 5 | S7: 2604 | T7: =SUMIFS(gminy_26[2020],gminy_26[kod powiatu],$S7) -> 0 | U7: =SUMIFS(gminy_26[2021],gminy_26[kod powiatu],$S7) -> 92530 | V7: =SUMIFS(gminy_26[2022],gminy_26[kod powiatu],$S7) -> 173390 | W7: =SUMIFS(gminy_26[2023],gminy_26[kod powiatu],$S7) -> 196460 | X7: =SUMIFS(gminy_26[2024],gminy_26[kod powiatu],$S7) -> 587180 | Y7: =SUMIFS(gminy_26[2025],gminy_26[kod powiatu],$S7) -> 587180 | Z7: =SUMIFS(gminy_26[2026],gminy_26[kod powiatu],$S7) -> 705840
A8: 2604012 | B8: Bieliny | C8: =gminy_26[[#This Row],[kod gminy]] -> 2604012 | D8: 2604 | E8: =VLOOKUP(gminy_26[[#This Row],[kod powiatu]],powiaty_26[],katalogi!$B$1,FALSE) -> kielecki | F8: PL2602 | G8: =VLOOKUP(gminy_26[[#This Row],[kod strefy]],strefy_26[],2,FALSE) -> strefa świętokrzyska | H8: 123210 | I8: 0 | J8: 4940 | K8: 9260 | L8: 10490 | M8: 30790 | N8: 30790 | O8: 36940 | P8: 1 | Q8: 5 | S8: 2605 | T8: =SUMIFS(gminy_26[2020],gminy_26[kod powiatu],$S8) -> 0 | U8: =SUMIFS(gminy_26[2021],gminy_26[kod powiatu],$S8) -> 21050 | V8: =SUMIFS(gminy_26[2022],gminy_26[kod powiatu],$S8) -> 39410 | W8: =SUMIFS(gminy_26[2023],gminy_26[kod powiatu],$S8) -> 44670 | X8: =SUMIFS(gminy_26[2024],gminy_26[kod powiatu],$S8) -> 183160 | Y8: =SUMIFS(gminy_26[2025],gminy_26[kod powiatu],$S8) -> 183160 | Z8: =SUMIFS(gminy_26[2026],gminy_26[kod powiatu],$S8) -> 226700
A9: 2610022 | B9: Bliżyn | C9: =gminy_26[[#This Row],[kod gminy]] -> 2610022 | D9: 2610 | E9: =VLOOKUP(gminy_26[[#This Row],[kod powiatu]],powiaty_26[],katalogi!$B$1,FALSE) -> skarżyski | F9: PL2602 | G9: =VLOOKUP(gminy_26[[#This Row],[kod strefy]],strefy_26[],2,FALSE) -> strefa świętokrzyska | H9: 77710 | I9: 0 | J9: 2060 | K9: 3860 | L9: 4370 | M9: 20740 | N9: 20740 | O9: 25940 | P9: 1 | Q9: 5 | S9: 2606 | T9: =SUMIFS(gminy_26[2020],gminy_26[kod powiatu],$S9) -> 0 | U9: =SUMIFS(gminy_26[2021],gminy_26[kod powiatu],$S9) -> 2680 | V9: =SUMIFS(gminy_26[2022],gminy_26[kod powiatu],$S9) -> 4980 | W9: =SUMIFS(gminy_26[2023],gminy_26[kod powiatu],$S9) -> 5660 | X9: =SUMIFS(gminy_26[2024],gminy_26[kod powiatu],$S9) -> 92630 | Y9: =SUMIFS(gminy_26[2025],gminy_26[kod powiatu],$S9) -> 92630 | Z9: =SUMIFS(gminy_26[2026],gminy_26[kod powiatu],$S9) -> 121290
A10: 2607032 | B10: Bodzechów | C10: =gminy_26[[#This Row],[kod gminy]] -> 2607032 | D10: 2607 | E10: =VLOOKUP(gminy_26[[#This Row],[kod powiatu]],powiaty_26[],katalogi!$B$1,FALSE) -> ostrowiecki | F10: PL2602 | G10: =VLOOKUP(gminy_26[[#This Row],[kod strefy]],strefy_26[],2,FALSE) -> strefa świętokrzyska | H10: 106270 | I10: 0 | J10: 4450 | K10: 8340 | L10: 9450 | M10: 26320 | N10: 26320 | O10: 31390 | P10: 1 | Q10: 5 | S10: 2607 | T10: =SUMIFS(gminy_26[2020],gminy_26[kod powiatu],$S10) -> 0 | U10: =SUMIFS(gminy_26[2021],gminy_26[kod powiatu],$S10) -> 34780 | V10: =SUMIFS(gminy_26[2022],gminy_26[kod powiatu],$S10) -> 65180 | W10: =SUMIFS(gminy_26[2023],gminy_26[kod powiatu],$S10) -> 73870 | X10: =SUMIFS(gminy_26[2024],gminy_26[kod powiatu],$S10) -> 199550 | Y10: =SUMIFS(gminy_26[2025],gminy_26[kod powiatu],$S10) -> 199550 | Z10: =SUMIFS(gminy_26[2026],gminy_26[kod powiatu],$S10) -> 237080
A11: 2604023 | B11: Bodzentyn | C11: =gminy_26[[#This Row],[kod gminy]] -> 2604023 | D11: 2604 | E11: =VLOOKUP(gminy_26[[#This Row],[kod powiatu]],powiaty_26[],katalogi!$B$1,FALSE) -> kielecki | F11: PL2602 | G11: =VLOOKUP(gminy_26[[#This Row],[kod strefy]],strefy_26[],2,FALSE) -> strefa świętokrzyska | H11: 129960 | I11: 0 | J11: 5080 | K11: 9520 | L11: 10790 | M11: 32640 | N11: 32640 | O11: 39290 | P11: 1 | Q11: 20 | S11: 2608 | T11: =SUMIFS(gminy_26[2020],gminy_26[kod powiatu],$S11) -> 0 | U11: =SUMIFS(gminy_26[2021],gminy_26[kod powiatu],$S11) -> 4280 | V11: =SUMIFS(gminy_26[2022],gminy_26[kod powiatu],$S11) -> 8010 | W11: =SUMIFS(gminy_26[2023],gminy_26[kod powiatu],$S11) -> 9070 | X11: =SUMIFS(gminy_26[2024],gminy_26[kod powiatu],$S11) -> 101300 | Y11: =SUMIFS(gminy_26[2025],gminy_26[kod powiatu],$S11) -> 101300 | Z11: =SUMIFS(gminy_26[2026],gminy_26[kod powiatu],$S11) -> 131530
A12: 2612012 | B12: Bogoria | C12: =gminy_26[[#This Row],[kod gminy]] -> 2612012 | D12: 2612 | E12: =VLOOKUP(gminy_26[[#This Row],[kod powiatu]],powiaty_26[],katalogi!$B$1,FALSE) -> staszowski | F12: PL2602 | G12: =VLOOKUP(gminy_26[[#This Row],[kod strefy]],strefy_26[],2,FALSE) -> strefa świętokrzyska | H12: 75700 | I12: 0 | J12: 4460 | K12: 8350 | L12: 9460 | M12: 17140 | N12: 17140 | O12: 19150 | P12: 1 | Q12: 5 | S12: 2609 | T12: =SUMIFS(gminy_26[2020],gminy_26[kod powiatu],$S12) -> 0 | U12: =SUMIFS(gminy_26[2021],gminy_26[kod powiatu],$S12) -> 12250 | V12: =SUMIFS(gminy_26[2022],gminy_26[kod powiatu],$S12) -> 22900 | W12: =SUMIFS(gminy_26[2023],gminy_26[kod powiatu],$S12) -> 25970 | X12: =SUMIFS(gminy_26[2024],gminy_26[kod powiatu],$S12) -> 92860 | Y12: =SUMIFS(gminy_26[2025],gminy_26[kod powiatu],$S12) -> 92860 | Z12: =SUMIFS(gminy_26[2026],gminy_26[kod powiatu],$S12) -> 113620
A13: 2611022 | B13: Brody | C13: =gminy_26[[#This Row],[kod gminy]] -> 2611022 | D13: 2611 | E13: =VLOOKUP(gminy_26[[#This Row],[kod powiatu]],powiaty_26[],katalogi!$B$1,FALSE) -> starachowicki | F13: PL2602 | G13: =VLOOKUP(gminy_26[[#This Row],[kod strefy]],strefy_26[],2,FALSE) -> strefa świętokrzyska | H13: 104260 | I13: 0 | J13: 2970 | K13: 5560 | L13: 6300 | M13: 27570 | N13: 27570 | O13: 34290 | P13: 1 | Q13: 5 | S13: 2610 | T13: =SUMIFS(gminy_26[2020],gminy_26[kod powiatu],$S13) -> 0 | U13: =SUMIFS(gminy_26[2021],gminy_26[kod powiatu],$S13) -> 14480 | V13: =SUMIFS(gminy_26[2022],gminy_26[kod powiatu],$S13) -> 27140 | W13: =SUMIFS(gminy_26[2023],gminy_26[kod powiatu],$S13) -> 30740 | X13: =SUMIFS(gminy_26[2024],gminy_26[kod powiatu],$S13) -> 145850 | Y13: =SUMIFS(gminy_26[2025],gminy_26[kod powiatu],$S13) -> 145850 | Z13: =SUMIFS(gminy_26[2026],gminy_26[kod powiatu],$S13) -> 182410
A14: 2601013 | B14: Busko-Zdrój | C14: =gminy_26[[#This Row],[kod gminy]] -> 2601013 | D14: 2601 | E14: =VLOOKUP(gminy_26[[#This Row],[kod powiatu]],powiaty_26[],katalogi!$B$1,FALSE) -> buski | F14: PL2602 | G14: =VLOOKUP(gminy_26[[#This Row],[kod strefy]],strefy_26[],2,FALSE) -> strefa świętokrzyska | H14: 236640 | I14: 0 | J14: 10010 | K14: 18760 | L14: 21270 | M14: 58480 | N14: 58480 | O14: 69640 | P14: 1 | Q14: 20 | S14: 2611 | T14: =SUMIFS(gminy_26[2020],gminy_26[kod powiatu],$S14) -> 0 | U14: =SUMIFS(gminy_26[2021],gminy_26[kod powiatu],$S14) -> 19370 | V14: =SUMIFS(gminy_26[2022],gminy_26[kod powiatu],$S14) -> 36300 | W14: =SUMIFS(gminy_26[2023],gminy_26[kod powiatu],$S14) -> 41120 | X14: =SUMIFS(gminy_26[2024],gminy_26[kod powiatu],$S14) -> 180100 | Y14: =SUMIFS(gminy_26[2025],gminy_26[kod powiatu],$S14) -> 180100 | Z14: =SUMIFS(gminy_26[2026],gminy_26[kod powiatu],$S14) -> 223990
A15: 2604033 | B15: Chęciny | C15: =gminy_26[[#This Row],[kod gminy]] -> 2604033 | D15: 2604 | E15: =VLOOKUP(gminy_26[[#This Row],[kod powiatu]],powiaty_26[],katalogi!$B$1,FALSE) -> kielecki | F15: PL2602 | G15: =VLOOKUP(gminy_26[[#This Row],[kod strefy]],strefy_26[],2,FALSE) -> strefa świętokrzyska | H15: 159720 | I15: 0 | J15: 6330 | K15: 11860 | L15: 13440 | M15: 40010 | N15: 40010 | O15: 48070 | P15: 1 | Q15: 20 | S15: 2612 | T15: =SUMIFS(gminy_26[2020],gminy_26[kod powiatu],$S15) -> 0 | U15: =SUMIFS(gminy_26[2021],gminy_26[kod powiatu],$S15) -> 37080 | V15: =SUMIFS(gminy_26[2022],gminy_26[kod powiatu],$S15) -> 69470 | W15: =SUMIFS(gminy_26[2023],gminy_26[kod powiatu],$S15) -> 78710 | X15: =SUMIFS(gminy_26[2024],gminy_26[kod powiatu],$S15) -> 141990 | Y15: =SUMIFS(gminy_26[2025],gminy_26[kod powiatu],$S15) -> 141990 | Z15: =SUMIFS(gminy_26[2026],gminy_26[kod powiatu],$S15) -> 158460
A16: 2604043 | B16: Chmielnik | C16: =gminy_26[[#This Row],[kod gminy]] -> 2604043 | D16: 2604 | E16: =VLOOKUP(gminy_26[[#This Row],[kod powiatu]],powiaty_26[],katalogi!$B$1,FALSE) -> kielecki | F16: PL2602 | G16: =VLOOKUP(gminy_26[[#This Row],[kod strefy]],strefy_26[],2,FALSE) -> strefa świętokrzyska | H16: 122540 | I16: 0 | J16: 4860 | K16: 9100 | L16: 10320 | M16: 30690 | N16: 30690 | O16: 36880 | P16: 1 | Q16: 20 | S16: 2613 | T16: =SUMIFS(gminy_26[2020],gminy_26[kod powiatu],$S16) -> 0 | U16: =SUMIFS(gminy_26[2021],gminy_26[kod powiatu],$S16) -> 5500 | V16: =SUMIFS(gminy_26[2022],gminy_26[kod powiatu],$S16) -> 10290 | W16: =SUMIFS(gminy_26[2023],gminy_26[kod powiatu],$S16) -> 11660 | X16: =SUMIFS(gminy_26[2024],gminy_26[kod powiatu],$S16) -> 97440 | Y16: =SUMIFS(gminy_26[2025],gminy_26[kod powiatu],$S16) -> 97440 | Z16: =SUMIFS(gminy_26[2026],gminy_26[kod powiatu],$S16) -> 125330
A17: 2603022 | B17: Czarnocin | C17: =gminy_26[[#This Row],[kod gminy]] -> 2603022 | D17: 2603 | E17: =VLOOKUP(gminy_26[[#This Row],[kod powiatu]],powiaty_26[],katalogi!$B$1,FALSE) -> kazimierski | F17: PL2602 | G17: =VLOOKUP(gminy_26[[#This Row],[kod strefy]],strefy_26[],2,FALSE) -> strefa świętokrzyska | H17: 27910 | I17: 0 | J17: 770 | K17: 1430 | L17: 1620 | M17: 7420 | N17: 7420 | O17: 9250 | P17: 1 | Q17: 5 | S17: 2661 | T17: =SUMIFS(gminy_26[2020],gminy_26[kod powiatu],$S17) -> 0 | U17: =SUMIFS(gminy_26[2021],gminy_26[kod powiatu],$S17) -> 37570 | V17: =SUMIFS(gminy_26[2022],gminy_26[kod powiatu],$S17) -> 70440 | W17: =SUMIFS(gminy_26[2023],gminy_26[kod powiatu],$S17) -> 79840 | X17: =SUMIFS(gminy_26[2024],gminy_26[kod powiatu],$S17) -> 93920 | Y17: =SUMIFS(gminy_26[2025],gminy_26[kod powiatu],$S17) -> 93920 | Z17: =SUMIFS(gminy_26[2026],gminy_26[kod powiatu],$S17) -> 93920
A18: 2607043 | B18: Ćmielów | C18: =gminy_26[[#This Row],[kod gminy]] -> 2607043 | D18: 2607 | E18: =VLOOKUP(gminy_26[[#This Row],[kod powiatu]],powiaty_26[],katalogi!$B$1,FALSE) -> ostrowiecki | F18: PL2602 | G18: =VLOOKUP(gminy_26[[#This Row],[kod strefy]],strefy_26[],2,FALSE) -> strefa świętokrzyska | H18: 69840 | I18: 0 | J18: 2970 | K18: 5570 | L18: 6310 | M18: 17240 | N18: 17240 | O18: 20510 | P18: 1 | Q18: 20
A19: 2604053 | B19: Daleszyce | C19: =gminy_26[[#This Row],[kod gminy]] -> 2604053 | D19: 2604 | E19: =VLOOKUP(gminy_26[[#This Row],[kod powiatu]],powiaty_26[],katalogi!$B$1,FALSE) -> kielecki | F19: PL2602 | G19: =VLOOKUP(gminy_26[[#This Row],[kod strefy]],strefy_26[],2,FALSE) -> strefa świętokrzyska | H19: 176290 | I19: 0 | J19: 6880 | K19: 12900 | L19: 14610 | M19: 44290 | N19: 44290 | O19: 53320 | P19: 1 | Q19: 20
A20: 2609022 | B20: Dwikozy | C20: =gminy_26[[#This Row],[kod gminy]] -> 2609022 | D20: 2609 | E20: =VLOOKUP(gminy_26[[#This Row],[kod powiatu]],powiaty_26[],katalogi!$B$1,FALSE) -> sandomierski | F20: PL2602 | G20: =VLOOKUP(gminy_26[[#This Row],[kod strefy]],strefy_26[],2,FALSE) -> strefa świętokrzyska | H20: 46680 | I20: 0 | J20: 1590 | K20: 2970 | L20: 3370 | M20: 12020 | N20: 12020 | O20: 14710 | P20: 1 | Q20: 5
A21: 2608013 | B21: Działoszyce | C21: =gminy_26[[#This Row],[kod gminy]] -> 2608013 | D21: 2608 | E21: =VLOOKUP(gminy_26[[#This Row],[kod powiatu]],powiaty_26[],katalogi!$B$1,FALSE) -> pińczowski | F21: PL2602 | G21: =VLOOKUP(gminy_26[[#This Row],[kod strefy]],strefy_26[],2,FALSE) -> strefa świętokrzyska | H21: 50980 | I21: 0 | J21: 550 | K21: 1020 | L21: 1160 | M21: 14610 | N21: 14610 | O21: 19030 | P21: 1 | Q21: 20
A22: 2605012 | B22: Fałków | C22: =gminy_26[[#This Row],[kod gminy]] -> 2605012 | D22: 2605 | E22: =VLOOKUP(gminy_26[[#This Row],[kod powiatu]],powiaty_26[],katalogi!$B$1,FALSE) -> konecki | F22: PL2602 | G22: =VLOOKUP(gminy_26[[#This Row],[kod strefy]],strefy_26[],2,FALSE) -> strefa świętokrzyska | H22: 44320 | I22: 0 | J22: 1310 | K22: 2450 | L22: 2780 | M22: 11660 | N22: 11660 | O22: 14460 | P22: 1 | Q22: 5
A23: 2601022 | B23: Gnojno | C23: =gminy_26[[#This Row],[kod gminy]] -> 2601022 | D23: 2601 | E23: =VLOOKUP(gminy_26[[#This Row],[kod powiatu]],powiaty_26[],katalogi!$B$1,FALSE) -> buski | F23: PL2602 | G23: =VLOOKUP(gminy_26[[#This Row],[kod strefy]],strefy_26[],2,FALSE) -> strefa świętokrzyska | H23: 47190 | I23: 0 | J23: 1980 | K23: 3710 | L23: 4210 | M23: 11680 | N23: 11680 | O23: 13930 | P23: 1 | Q23: 5
A24: 2605022 | B24: Gowarczów | C24: =gminy_26[[#This Row],[kod gminy]] -> 2605022 | D24: 2605 | E24: =VLOOKUP(gminy_26[[#This Row],[kod powiatu]],powiaty_26[],katalogi!$B$1,FALSE) -> konecki | F24: PL2602 | G24: =VLOOKUP(gminy_26[[#This Row],[kod strefy]],strefy_26[],2,FALSE) -> strefa świętokrzyska | H24: 43750 | I24: 0 | J24: 1310 | K24: 2450 | L24: 2780 | M24: 11490 | N24: 11490 | O24: 14230 | P24: 1 | Q24: 5
A25: 2604062 | B25: Górno | C25: =gminy_26[[#This Row],[kod gminy]] -> 2604062 | D25: 2604 | E25: =VLOOKUP(gminy_26[[#This Row],[kod powiatu]],powiaty_26[],katalogi!$B$1,FALSE) -> kielecki | F25: PL2602 | G25: =VLOOKUP(gminy_26[[#This Row],[kod strefy]],strefy_26[],2,FALSE) -> strefa świętokrzyska | H25: 169880 | I25: 0 | J25: 6720 | K25: 12590 | L25: 14260 | M25: 42570 | N25: 42570 | O25: 51170 | P25: 1 | Q25: 5
A26: 2602012 | B26: Imielno | C26: =gminy_26[[#This Row],[kod gminy]] -> 2602012 | D26: 2602 | E26: =VLOOKUP(gminy_26[[#This Row],[kod powiatu]],powiaty_26[],katalogi!$B$1,FALSE) -> jędrzejowski | F26: PL2602 | G26: =VLOOKUP(gminy_26[[#This Row],[kod strefy]],strefy_26[],2,FALSE) -> strefa świętokrzyska | H26: 47020 | I26: 0 | J26: 1960 | K26: 3670 | L26: 4160 | M26: 11660 | N26: 11660 | O26: 13910 | P26: 1 | Q26: 5
A27: 2606022 | B27: Iwaniska | C27: =gminy_26[[#This Row],[kod gminy]] -> 2606022 | D27: 2606 | E27: =VLOOKUP(gminy_26[[#This Row],[kod powiatu]],powiaty_26[],katalogi!$B$1,FALSE) -> opatowski | F27: PL2602 | G27: =VLOOKUP(gminy_26[[#This Row],[kod strefy]],strefy_26[],2,FALSE) -> strefa świętokrzyska | H27: 46870 | I27: 0 | J27: 410 | K27: 760 | L27: 870 | M27: 13550 | N27: 13550 | O27: 17730 | P27: 1 | Q27: 5
A28: 2602023 | B28: Jędrzejów | C28: =gminy_26[[#This Row],[kod gminy]] -> 2602023 | D28: 2602 | E28: =VLOOKUP(gminy_26[[#This Row],[kod powiatu]],powiaty_26[],katalogi!$B$1,FALSE) -> jędrzejowski | F28: PL2602 | G28: =VLOOKUP(gminy_26[[#This Row],[kod strefy]],strefy_26[],2,FALSE) -> strefa świętokrzyska | H28: 234240 | I28: 0 | J28: 9980 | K28: 18700 | L28: 21200 | M28: 57800 | N28: 57800 | O28: 68760 | P28: 1 | Q28: 20
A29: 2603033 | B29: Kazimierza Wielka | C29: =gminy_26[[#This Row],[kod gminy]] -> 2603033 | D29: 2603 | E29: =VLOOKUP(gminy_26[[#This Row],[kod powiatu]],powiaty_26[],katalogi!$B$1,FALSE) -> kazimierski | F29: PL2602 | G29: =VLOOKUP(gminy_26[[#This Row],[kod strefy]],strefy_26[],2,FALSE) -> strefa świętokrzyska | H29: 114160 | I29: 0 | J29: 3240 | K29: 6070 | L29: 6880 | M29: 30200 | N29: 30200 | O29: 37570 | P29: 1 | Q29: 20
... A105: 2608052 | B105: Złota | C105: =gminy_26[[#This Row],[kod gminy]] -> 2608052 | D105: 2608 | E105: =VLOOKUP(gminy_26[[#This Row],[kod powiatu]],powiaty_26[],katalogi!$B$1,FALSE) -> pińczowski | F105: PL2602 | G105: =VLOOKUP(gminy_26[[#This Row],[kod strefy]],strefy_26[],2,FALSE) -> strefa świętokrzyska | H105: 46890 | I105: 0 | J105: 500 | K105: 940 | L105: 1060 | M105: 13440 | N105: 13440 | O105: 17510 | P105: 1 | Q105: 5
A112: Powiaty | B112: Kielce | C112: buski | D112: jędrzejowski | E112: kazimierski | F112: kielecki | G112: konecki | H112: opatowski | I112: ostrowiecki | J112: pińczowski | K112: sandomierski | L112: skarżyski | M112: starachowicki | N112: staszowski | O112: włoszczowski
A113: Kielce | B113: Kielce | C113: Busko-Zdrój | D113: Imielno | E113: Bejsce | F113: Bieliny | G113: Fałków | H113: Baćkowice | I113: Bałtów | J113: Działoszyce | K113: Dwikozy | L113: Bliżyn | M113: Brody | N113: Bogoria | O113: Kluczewsko
A114: buski | C114: Gnojno | D114: Jędrzejów | E114: Czarnocin | F114: Bodzentyn | G114: Gowarczów | H114: Iwaniska | I114: Bodzechów | J114: Kije | K114: Klimontów | L114: Łączna | M114: Mirzec | N114: Łubnice | O114: Krasocin
A115: jędrzejowski | C115: Nowy Korczyn | D115: Małogoszcz | E115: Kazimierza Wielka | F115: Chęciny | G115: Końskie | H115: Lipnik | I115: Ćmielów | J115: Michałów | K115: Koprzywnica | L115: Skarżysko Kościelne | M115: Pawłów | N115: Oleśnica | O115: Moskorzew
A116: kazimierski | C116: Pacanów | D116: Nagłowice | E116: Opatowiec | F116: Chmielnik | G116: Radoszyce | H116: Opatów | I116: Kunów | J116: Pińczów | K116: Łoniów | L116: Skarżysko-Kamienna | M116: Starachowice | N116: Osiek | O116: Radków
A117: kielecki | C117: Solec-Zdrój | D117: Oksa | E117: Skalbmierz | F117: Daleszyce | G117: Ruda Maleniecka | H117: Ożarów | I117: Ostrowiec Świętokrzyski | J117: Złota | K117: Obrazów | L117: Suchedniów | M117: Wąchock | N117: Połaniec | O117: Secemin
A118: konecki | C118: Stopnica | D118: Sędziszów | F118: Górno | G118: Słupia (Konecka) | H118: Sadowie | I118: Waśniów | K118: Samborzec | N118: Rytwiany | O118: Włoszczowa
A119: opatowski | C119: Tuczępy | D119: Słupia | F119: Łagów | G119: Smyków | H119: Tarłów | K119: Sandomierz | N119: Staszów
A120: ostrowiecki | C120: Wiślica | D120: Sobków | F120: Łopuszno | G120: Stąporków | H120: Wojciechowice | K120: Wilczyce | N120: Szydłów
A121: pińczowski | D121: Wodzisław | F121: Masłów | K121: Zawichost
...

Sheet wskaźniki_efektu
A1: 1 | B1: =A1+1 -> 2 | C1: =B1+1 -> 3 | D1: =C1+1 -> 4 | E1: =D1+1 -> 5
A2: kod działania | B2: rodzaj działania | C2: wskaźnik redukcji emisji (efektu ekologicznego)
C3: [g PM10/(m2×rok)] | D3: [g PM2,5/(m2×rok)] | E3: [g B(a)P/(m2×rok)]
A4: kod_efektu | B4: opis | C4: PM10 | D4: PM2,5 | E4: BaP
A5: w_c.o. | B5: likwidacja kotła węglowego - podłączenie do sieci cieplnej | C5: 502.429 | D5: 494.967 | E5: 0.28604
A6: w_elektr | B6: zmiana ogrzewania węglowego na elektryczne | C6: 502.429 | D6: 494.967 | E6: 0.28604
A7: w_WK_eco | B7: zmiana starego kotła na nowy kocioł węglowy ekoprojekt | C7: 486.134 | D7: 481.931 | E7: 0.27381
A8: w_WK_eco_b | B8: zmiana starego kotła na nowy kocioł na biomasę ekoprojekt | C8: 483.7 | D8: 477.224 | E8: 0.27703
A9: w_gaz | B9: zmiana paliwa węglowego na gazowe | C9: 502.084 | D9: 494.622 | E9: 0.28604
A10: w_olej | B10: zmiana paliwa węglowego na olej opałowy | C10: 500.985 | D10: 493.523 | E10: 0.28598
A11: w_pompa | B11: instalacja pompy ciepła (ziemnej lub powietrznej) | C11: 502.429 | D11: 494.967 | E11: 0.28604
A12: ks+WK_R | B12: instalacja kolektorów słonecznych bez zmiany kotła węglowego | C12: 73.534 | D12: 72.442 | E12: 0.04186
A13: termo+WK_eco | B13: termomodernizacja i zmiana kotła - węglowy ekoprojekt | C13: 491.022 | D13: 485.842 | E13: 0.27748
A14: termo+WK_eco_b | B14: termomodernizacja i zmiana kotła - na biomasę ekoprojekt | C14: 489.318 | D14: 482.547 | E14: 0.27973
A15: termo+gaz | B15: termomodernizacja i zmiana paliwa na gazowe | C15: 502.187 | D15: 494.725 | E15: 0.28604
A16: termo+olej | B16: termomodernizacja i zmiana paliwa na olejowe | C16: 501.418 | D16: 493.956 | E16: 0.28599
B19: liczba i powierzchnia budynków, w tym jednorodzinnych i wielorodzinnych, w których nieefektywne indywidulne źródło ciepła na paliwa stałe
A20: wskaźniki monitorowanie zadania ZSO | B20: wskaźniki do tab.1_ZSO | C20: wskaźniki efektu
A21: liczba i powierzchnia budynków, w tym jednorodzinnych i wielorodzinnych, w których zlikwidowano nieefektywne indywidulne źródło ciepła na paliwa stałe i podłączono do sieci ciepłowniczej | B21: zlikwidowano i podłączono do sieci ciepłowniczej | C21: w_c.o.
A22: liczba i powierzchnia budynków, w tym jednorodzinnych i wielorodzinnych, w których nieefektywne indywidulne źródło ciepła na paliwa stałe zastąpiono ogrzewaniem gazowym | B22: zastąpiono ogrzewaniem gazowym | C22: w_gaz
A23: liczba i powierzchnia budynków, w tym jednorodzinnych i wielorodzinnych, w których nieefektywne indywidulne źródło ciepła na paliwa stałe zastąpiono odnawialnym źródłem energii | B23: zastąpiono odnawialnym źródłem energii | C23: w_pompa
A24: liczba i powierzchnia budynków, w tym jednorodzinnych i wielorodzinnych, w których nieefektywne indywidulne źródło ciepła na paliwa stałe zastąpiono kotłem węglowym spełniającym wymagania ekoprojektu | B24: zastąpiono kotłem węglowym spełniającym wymagania ekoprojektu | C24: w_WK_eco
A25: liczba i powierzchnia budynków, w tym jednorodzinnych i wielorodzinnych, w których nieefektywne indywidulne źródło ciepła na paliwa stałe zastąpiono kotłem na biomasę spełniającym wymagania ekoprojektu | B25: zastąpiono kotłem na biomasę spełniającym wymagania ekoprojektu | C25: w_WK_eco_b
A26: liczba i powierzchnia budynków, w tym jednorodzinnych i wielorodzinnych, w których nieefektywne indywidulne źródło ciepła na paliwa stałe zastąpiono ogrzewaniem elektrycznym | B26: zastąpiono ogrzewaniem elektrycznym | C26: w_elektr
A27: liczba i powierzchnia budynków, w tym jednorodzinnych i wielorodzinnych, w których nieefektywne indywidulne źródło ciepła na paliwa stałe zastąpiono ogrzewaniem olejowym | B27: zastąpiono ogrzewaniem olejowym | C27: w_olej
A28: liczba i powierzchnia budynków, w tym jednorodzinnych i wielorodzinnych, w których zlikwidowano nieefektywne indywidulne źródło ciepła na paliwa stałe i podłączono do sieci ciepłowniczej oraz przeprowadzono termomodernizację | B28: zlikwidowano i podłączono do sieci ciepłowniczej oraz przeprowadzono termomodernizację | C28: w_c.o.
A29: liczba i powierzchnia budynków, w tym jednorodzinnych i wielorodzinnych, w których nieefektywne indywidulne źródło ciepła na paliwa stałe zastąpiono ogrzewaniem gazowym oraz przeprowadzono termomodernizację | B29: zastąpiono ogrzewaniem gazowym oraz przeprowadzono termomodernizację | C29: termo+gaz
A30: liczba i powierzchnia budynków, w tym jednorodzinnych i wielorodzinnych, w których nieefektywne indywidulne źródło ciepła na paliwa stałe zastąpiono odnawialnym źródłem energii oraz przeprowadzono termomodernizację | B30: zastąpiono odnawialnym źródłem energii oraz przeprowadzono termomodernizację | C30: w_pompa
A31: liczba i powierzchnia budynków, w tym jednorodzinnych i wielorodzinnych, w których nieefektywne indywidulne źródło ciepła na paliwa stałe zastąpiono kotłem węglowym spełniającym wymagania ekoprojektu oraz przeprowadzono termomodernizację | B31: zastąpiono kotłem węglowym spełniającym wymagania ekoprojektu oraz przeprowadzono termomodernizację | C31: termo+WK_eco
... A34: liczba i powierzchnia budynków, w tym jednorodzinnych i wielorodzinnych, w których nieefektywne indywidulne źródło ciepła na paliwa stałe zastąpiono ogrzewaniem olejowym oraz przeprowadzono termomodernizację | B34: zastąpiono ogrzewaniem olejowym oraz przeprowadzono termomodernizację | C34: termo+olej

Sheet instrukcja
A2: Arkusz służy do przygotowania rocznego sprawozdania z realizacji Programu ochrony powietrza dla wojewódtwa świętokrzyskiego wraz z planem działań krótkoterminowych
A3: zgodnie z uchwałą Nr XXII/291/20 Sejmiku Województwa Świetokrzyskiego z dnia 29 czerwca 2020 roku
A5: Arkusz wypełniają:
A6: 1) jednostki samorządu terytorialnego | B6: gminy i powiaty
A7: tabela_informacyjna_dla_JST | B7: infrmacje ogólne - wypełniane przez JST
A8: tab.1_ZSO_gminy | B8: informacje szczegółowe o realizacji zadań ZSO przez gminy
A9: tab.1_ZSO_powiaty | B9: informacje szczegółowe o realizacji zadań ZSO przez powiaty
A10: tab.2_EE_gminy | B10: informacje szczegółowe o realizacji zadań EE przez gminy
A11: tab.3_KPP | B11: informacje szczegółowe o realizacji zadań KPP przez gminy
A12: tab.5_PDK | B12: informacje szczegółowe o PDK
A13: 2) zarządzający nieruchomościamu, budynkami lub lokalami
A14: tabela_informacyjna_dla_innych | B14: infrmacje ogólne - część wypełniana przez zarządzających nieruchomościami, budynkami lub lokalami
A15: tab.1_ZSO_zarządcy | B15: informacje szczegółowe o realizacji zadań ZSO przez zarządzających
A16: 3) organizacje
A17: tabela_informacyjna_dla_innych | B17: infrmacje ogólne - część wypełniana przez organizacje
A18: tab.2_EE_org | B18: informacje szczegółowe o realizacji zadań edukacyjnych (EE) przez organizacje
A19: 4) zarządcy dróg
A20: tabela_informacyjna_dla_innych | B20: infrmacje ogólne - część wypełniana przez zarządców dróg
A21: tab.4_BDO | B21: informacje szczegółowe o realizacji zadań budowy dróg (BDO) przez zarządców dróg
A25: Wypełniony arkusz sprawozdawczy należy przesłać w formie edytowalnej do 15 lutego każdego roku:
A26: 1. jednostki samorządu terytorialnego - na adres ePUAP Urzędu Marszałkowskiego Województwa Świętokrzyskiego
A27: 2. pozostałe podmioty - na adres mailowy anna.hynek@sejmik.kielce.pl

Sheet tabela_informacyjna_dla_JST
B2: proszę wypełniać TYLKO pola zaznaczone na żółto | C2: wypełniają gminy | E2: wypełniają powiaty
A3: Informacje ogóle na temat sprawozdania z Programu ochrony powietrza
A4: Lp. | B4: Zawartość | C4: Opis - wypełniają GMINY | D4: pomoc | E4: Opis - wypełniają STAROSTWA POWIATOWE | F4: pomoc | H4: tab.1_ZSO_gminy | I4: informacje szczegółowe o realizacji zadań ZSO przez gminy
A5: 1 | B5: Rok sprawozdawczy* | C5: 2022 | H5: tab.1_ZSO_powiaty | I5: informacje szczegółowe o realizacji zadań ZSO przez starostwa powiatowe
A6: 2 | B6: Województwo | C6: świętokrzyskie | E6: świętokrzyskie | H6: tab.2_EE_gminy | I6: informacje szczegółowe o realizacji zadań EE przez gminy
A7: 3 | B7: Strefa i kod strefy | C7: =IFERROR(CONCATENATE(VLOOKUP($D$9,[2]!gminy_26[#Data],[2]katalog_gmin_PL26!$G$1,FALSE)," (",VLOOKUP($D$9,[2]!gminy_26[#Data],[2]katalog_gmin_PL26!$F$1,FALSE),")"),"") | D7: =VLOOKUP($D$9,gminy_26[],katalog_gmin_PL26!$F$1,FALSE) -> PL2602 | E7: =IFERROR(CONCATENATE(VLOOKUP($F$8,powiaty_26[],katalogi!$E$1,FALSE)," (",VLOOKUP($F$8,powiaty_26[],katalogi!$D$1,FALSE),")"),"") | F7: =IFERROR(VLOOKUP($F$8,powiaty_26[],katalogi!$D$1,FALSE),"brak") -> brak | H7: tab.3_KPP | I7: informacje szczegółowe o realizacji zadań KPP przez gminy
A8: 4 | B8: Powiat lub miasta na prawach powiatu | C8: =IFERROR(VLOOKUP($D$9,gminy_26[],katalog_gmin_PL26!$E$1,FALSE),"") -> konecki | F8: =IFERROR(VLOOKUP($E$8,powiaty_26[[powiat]:[kod powiatu2]],2,FALSE),"brak") -> brak | H8: tab.5_PDK | I8: informacje szczegółowe o PDK
A9: 5 | B9: Gmina/Powiat* | C9: Ruda Maleniecka | D9: =VLOOKUP($C$9,gminy_26[[nazwa gminy]:[kod gminy2]],2,FALSE) -> 2605052 | E9: nie dotyczy
A10: 6 | B10: Nazwa Urzędu Marszałkowskiego przejmującego sprawozdanie | C10: Urząd Marszałkowski Województwa Świętokrzyskiego | E10: Urząd Marszałkowski Województwa Świętokrzyskiego
A11: 7 | B11: Adres pocztowy Urzędu Marszałkowskiego | C11: 25-516 Kielce, aleja IX Wieków Kielc 3 | E11: 25-516 Kielce, aleja IX Wieków Kielc 3
A12: 8 | B12: Imię i nazwisko osoby do kontaktu* | C12: Olga Haber
A13: 9 | B13: Numer służbowego telefonu osoby do kontaktu* | C13: 41 373 13 48
A14: 10 | B14: Numer służbowego faksu osoby do kontaktu
A15: 11 | B15: Służbowy adres e-mail osoby do kontaktu* | C15: olga.haber@rudamaleniecka.pl
A16: 12 | B16: Uwagi
B17: *pole wymagane
A18: Informacje ogóle na temat sprawozdania z PDK (Plan działań krótkoterminowych)
A19: Lp. | B19: Zawartość | C19: Opis - wypełniają GMINY | D19: pomoc | E19: Opis - wypełniają STAROSTWA POWIATOWE | F19: pomoc
A20: 1 | B20: Rok sprawozdawczy* | C20: =C$5 -> 2022 | E20: =E$5 -> 0
A21: 2 | B21: Województwo | C21: świętokrzyskie | E21: świętokrzyskie
A22: 3 | B22: Strefa i kod strefy | C22: =IFERROR(CONCATENATE(VLOOKUP($D$9,gminy_26[],katalog_gmin_PL26!$G$1,FALSE)," (",VLOOKUP($D$9,gminy_26[],katalog_gmin_PL26!$F$1,FALSE),")"),"") -> strefa świętokrzyska (PL2602) | D22: =VLOOKUP($D$9,gminy_26[],katalog_gmin_PL26!$F$1,FALSE) -> PL2602 | E22: =IFERROR(CONCATENATE(VLOOKUP($F$8,powiaty_26[],katalogi!$E$1,FALSE)," (",VLOOKUP($F$8,powiaty_26[],katalogi!$D$1,FALSE),")"),"") | F22: =IFERROR(VLOOKUP($F$8,powiaty_26[],katalogi!$D$1,FALSE),"brak") -> brak
A23: 4 | B23: Powiat | C23: =IFERROR(VLOOKUP($D$9,gminy_26[],katalog_gmin_PL26!$E$1,FALSE),"") -> konecki | E23: =E$8 -> 0 | F23: =IFERROR(VLOOKUP($E$8,powiaty_26[[powiat]:[kod powiatu2]],2,FALSE),"brak") -> brak
A24: 5 | B24: Gmina/Powiat* | C24: =C$9 -> Ruda Maleniecka | D24: =VLOOKUP($C$9,gminy_26[[nazwa gminy]:[kod gminy2]],2,FALSE) -> 2605052 | E24: nie dotyczy
A25: 6 | B25: liczba dni w roku z informacją o wystąpieniu na terenie gminy POZIOMU II PDK* | C25: 0
A26: 7 | B26: liczba dni w roku z informacją o wystąpieniu na terenie gminy POZIOMU III PDK* | C26: 0
B27: *pole wymagane

Sheet tab.1_ZSO_gminy
A1: * pole wymagane
E2: rok sprawozdawczy | F2: =IF(tabela_informacyjna_dla_JST!$C$5=0,"brak roku sprawozdawczego",tabela_informacyjna_dla_JST!$C$5) -> 2022
E3: wymagany efekt rzeczowy w gminie powierzchnia ogółem [m2] | F3: =IFERROR(VLOOKUP(tabela_informacyjna_dla_JST!$D$9,gminy_26[],katalog_gmin_PL26!$H$1,FALSE),"brak nazwy gminy") -> 30150
E4: wymagana powierzchnia w roku sprawozdawczym w gminie [m2] | F4: =IFERROR(VLOOKUP(tabela_informacyjna_dla_JST!$D$9,gminy_26[],(HLOOKUP($F$2,katalog_gmin_PL26!$T$2:$Z$3,2,FALSE)),FALSE),"brak nazwy gminy lub roku") -> 1610 | I4: SUMA
I5: efekt rzeczowy [m2] | J5: [szt.] | K5: [kg/rok] | L5: [kg/rok] | M5: [kg/rok]
A6: Tabela 1. Sprawozdanie w zakresie działań ograniczających emisję z instalacji o małej mocy do 1 MW ujętych w harmonogramie realizacji POP | I6: =SUM(I11:I20) -> 1987 | J6: =SUM(J11:J20) -> 13 | K6: =SUM(K11:K20) -> 988.91094 | L6: =SUM(L11:L20) -> 974.71409 | M6: =SUM(M11:M20) -> 0.56358606 | N6: =SUM(N11:N20) -> 520485.85 | O6: =SUM(O11:O20) -> 343000.7
A7: Lp. | B7: gmina | C7: powiat | D7: kod zadania | E7: nazwa zadania | F7: krótki opis prowadzonych działań | G7: lokalizacja | H7: wskaźnik konitorowania postępu | K7: osiągnięty efekt redkcji emisji [kg/rok] | N7: koszty łącznie [zł]* | O7: w tym wysokość uzyskanego dofinansowania zewnętrznego [zł] | P7: sposób finansowania | R7: pomoc
H8: liczba i powierzchnia budynków, w tym jednorodzinnych i wielorodzinnych, w których nieefektywne indywidulne źródło ciepła na paliwa stałe* | I8: powierzchnia [m2]* | J8: liczba kotłów [szt.] | K8: PM10 | L8: PM2,5 | M8: B(a)P | R8: zestaw wsk_efektu | S8: kod gminy | T8: kod strefy
A9: 1 | B9: =A9+1 -> 2 | C9: =B9+1 -> 3 | D9: =C9+1 -> 4 | E9: =D9+1 -> 5 | F9: =E9+1 -> 6 | G9: =F9+1 -> 7 | H9: =G9+1 -> 8 | I9: =H9+1 -> 9 | ... P9: =O9+1 -> 16 | R9: p1 | S9: p2 | T9: p3
B10: wypełnia się automatycznie, zgodnie z tabelą informacyjną | C10: wypełnia się automatycznie | D10: wypełnia się automatycznie | E10: wypełnia się automatycznie | F10: krótko opisać rodzaj prowadzonych działań inwestycyjnych lub modernizacyjnych i ich wpływ na wielkość emisji zanieczyszczeń do powietrza | G10: podać miejscowość lub osiedle w gminach miejskich, gdzie zostało przeprowadzone działanie naprawcze | H10: proszę wybrać wskaźnik z listy rozwijanej | I10: proszę podać łączną powierzchnię lokali, budynków, na której przeprowadzono zmiany wskazane w kolumnie 8 | J10: proszę podać łączną liczbę zlikwidowanych lub zmienionych kotłów wskazanych w kolumnie 8 | K10: wypełnia się automatycznie | L10: wypełnia się automatycznie | M10: wypełnia się automatycznie | N10: podać koszty sumaryczne poniesione na realizację zadania | O10: jeżeli uzyskano dofinansowanie podać w jakiej kwocie | P10: wskazać źródła finansowania działania, wskazując wysokość dofinansowania | R10: pomoc | S10: pomoc | T10: pomoc
A11: 1 | B11: =tabela_informacyjna_dla_JST!$C$9 -> Ruda Maleniecka | C11: =tabela_informacyjna_dla_JST!$C$8 -> konecki | D11: =IFERROR(CONCATENATE(tabela_informacyjna_dla_JST!$D$7,"_ZSO"),"brak nazwy gminy") -> PL2602_ZSO | E11: =IFERROR(VLOOKUP($D11,kat_zadania[],katalogi!$N$1-katalogi!$L$1,FALSE),"brak nazwy gminy") -> Ograniczenie emisji z instalacji o małej mocy do 1 MW, w których następuje spalanie paliw stałych | F11: wymiana źródła ciepła - pieca | G11: Gmina Ruda Maleniecka | H11: zastąpiono kotłem węglowym spełniającym wymagania ekoprojektu | I11: 56 | J11: 1 | K11: =IFERROR(VLOOKUP($R11,kat_wsk_efektu[],wskaźniki_efektu!C$1,FALSE)*$I11/1000,"") -> 27.223504 | L11: =IFERROR(VLOOKUP($R11,kat_wsk_efektu[],wskaźniki_efektu!D$1,FALSE)*$I11/1000,"") -> 26.988136 | M11: =IFERROR(VLOOKUP($R11,kat_wsk_efektu[],wskaźniki_efektu!E$1,FALSE)*$I11/1000,"") -> 0.01533336 | N11: 9000 | O11: 6000 | P11: WFOŚiGW w Kielcach | R11: =IFERROR(VLOOKUP($H11,wskaźniki_efektu!$B$21:$C$34,wskaźniki_efektu!$C$1-wskaźniki_efektu!$A$1,FALSE),"") -> w_WK_eco | S11: =VLOOKUP($B11,gminy_26[[nazwa gminy]:[kod gminy2]],2,FALSE) -> 2605052 | T11: =VLOOKUP($S11,gminy_26[],katalog_gmin_PL26!$F$1,FALSE) -> PL2602
A12: 2 | B12: =tabela_informacyjna_dla_JST!$C$9 -> Ruda Maleniecka | C12: =tabela_informacyjna_dla_JST!$C$8 -> konecki | D12: =IFERROR(CONCATENATE(tabela_informacyjna_dla_JST!$D$7,"_ZSO"),"brak nazwy gminy") -> PL2602_ZSO | E12: =IFERROR(VLOOKUP($D12,kat_zadania[],katalogi!$N$1-katalogi!$L$1,FALSE),"brak nazwy gminy") -> Ograniczenie emisji z instalacji o małej mocy do 1 MW, w których następuje spalanie paliw stałych | F12: wymiana źródła ciepła - pieca | G12: Gmina Ruda Maleniecka | H12: zastąpiono kotłem na biomasę spełniającym wymagania ekoprojektu | I12: 454 | J12: 3 | K12: =IFERROR(VLOOKUP($R12,kat_wsk_efektu[],wskaźniki_efektu!C$1,FALSE)*$I12/1000,"") -> 219.5998 | L12: =IFERROR(VLOOKUP($R12,kat_wsk_efektu[],wskaźniki_efektu!D$1,FALSE)*$I12/1000,"") -> 216.6597 | M12: =IFERROR(VLOOKUP($R12,kat_wsk_efektu[],wskaźniki_efektu!E$1,FALSE)*$I12/1000,"") -> 0.12577162 | N12: 70489.85 | O12: 26895.7 | P12: WFOŚiGW w Kielcach | R12: =IFERROR(VLOOKUP($H12,wskaźniki_efektu!$B$21:$C$34,wskaźniki_efektu!$C$1-wskaźniki_efektu!$A$1,FALSE),"") -> w_WK_eco_b | S12: =VLOOKUP($B12,gminy_26[[nazwa gminy]:[kod gminy2]],2,FALSE) -> 2605052 | T12: =VLOOKUP($S12,gminy_26[],katalog_gmin_PL26!$F$1,FALSE) -> PL2602
A13: 3 | B13: =tabela_informacyjna_dla_JST!$C$9 -> Ruda Maleniecka | C13: =tabela_informacyjna_dla_JST!$C$8 -> konecki | D13: =IFERROR(CONCATENATE(tabela_informacyjna_dla_JST!$D$7,"_ZSO"),"brak nazwy gminy") -> PL2602_ZSO | E13: =IFERROR(VLOOKUP($D13,kat_zadania[],katalogi!$N$1-katalogi!$L$1,FALSE),"brak nazwy gminy") -> Ograniczenie emisji z instalacji o małej mocy do 1 MW, w których następuje spalanie paliw stałych | F13: wymiana źródła ciepła - pieca | G13: Gmina Ruda Maleniecka | H13: zastąpiono odnawialnym źródłem energii | I13: 1167 | J13: 7 | K13: =IFERROR(VLOOKUP($R13,kat_wsk_efektu[],wskaźniki_efektu!C$1,FALSE)*$I13/1000,"") -> 586.33464 | L13: =IFERROR(VLOOKUP($R13,kat_wsk_efektu[],wskaźniki_efektu!D$1,FALSE)*$I13/1000,"") -> 577.62649 | M13: =IFERROR(VLOOKUP($R13,kat_wsk_efektu[],wskaźniki_efektu!E$1,FALSE)*$I13/1000,"") -> 0.33380868 | N13: 347316 | O13: 230900 | P13: WFOŚiGW w Kielcach | R13: =IFERROR(VLOOKUP($H13,wskaźniki_efektu!$B$21:$C$34,wskaźniki_efektu!$C$1-wskaźniki_efektu!$A$1,FALSE),"") -> w_pompa | S13: =VLOOKUP($B13,gminy_26[[nazwa gminy]:[kod gminy2]],2,FALSE) -> 2605052 | T13: =VLOOKUP($S13,gminy_26[],katalog_gmin_PL26!$F$1,FALSE) -> PL2602
A14: 4 | B14: =tabela_informacyjna_dla_JST!$C$9 -> Ruda Maleniecka | C14: =tabela_informacyjna_dla_JST!$C$8 -> konecki | D14: =IFERROR(CONCATENATE(tabela_informacyjna_dla_JST!$D$7,"_ZSO"),"brak nazwy gminy") -> PL2602_ZSO | E14: =IFERROR(VLOOKUP($D14,kat_zadania[],katalogi!$N$1-katalogi!$L$1,FALSE),"brak nazwy gminy") -> Ograniczenie emisji z instalacji o małej mocy do 1 MW, w których następuje spalanie paliw stałych | F14: wymiana źródła ciepła - pieca | G14: Gmina Ruda Maleniecka | H14: zastąpiono odnawialnym źródłem energii oraz przeprowadzono termomodernizację | I14: 310 | J14: 2 | K14: =IFERROR(VLOOKUP($R14,kat_wsk_efektu[],wskaźniki_efektu!C$1,FALSE)*$I14/1000,"") -> 155.75299 | L14: =IFERROR(VLOOKUP($R14,kat_wsk_efektu[],wskaźniki_efektu!D$1,FALSE)*$I14/1000,"") -> 153.43977 | M14: =IFERROR(VLOOKUP($R14,kat_wsk_efektu[],wskaźniki_efektu!E$1,FALSE)*$I14/1000,"") -> 0.0886724 | N14: 93680 | O14: 79205 | P14: WFOŚiGW w Kielcach | R14: =IFERROR(VLOOKUP($H14,wskaźniki_efektu!$B$21:$C$34,wskaźniki_efektu!$C$1-wskaźniki_efektu!$A$1,FALSE),"") -> w_pompa | S14: =VLOOKUP($B14,gminy_26[[nazwa gminy]:[kod gminy2]],2,FALSE) -> 2605052 | T14: =VLOOKUP($S14,gminy_26[],katalog_gmin_PL26!$F$1,FALSE) -> PL2602
A15: 5 | B15: =tabela_informacyjna_dla_JST!$C$9 -> Ruda Maleniecka | C15: =tabela_informacyjna_dla_JST!$C$8 -> konecki | D15: =IFERROR(CONCATENATE(tabela_informacyjna_dla_JST!$D$7,"_ZSO"),"brak nazwy gminy") -> PL2602_ZSO | E15: =IFERROR(VLOOKUP($D15,kat_zadania[],katalogi!$N$1-katalogi!$L$1,FALSE),"brak nazwy gminy") -> Ograniczenie emisji z instalacji o małej mocy do 1 MW, w których następuje spalanie paliw stałych | K15: =IFERROR(VLOOKUP($R15,kat_wsk_efektu[],wskaźniki_efektu!C$1,FALSE)*$I15/1000,"") | L15: =IFERROR(VLOOKUP($R15,kat_wsk_efektu[],wskaźniki_efektu!D$1,FALSE)*$I15/1000,"") | M15: =IFERROR(VLOOKUP($R15,kat_wsk_efektu[],wskaźniki_efektu!E$1,FALSE)*$I15/1000,"") | R15: =IFERROR(VLOOKUP($H15,wskaźniki_efektu!$B$21:$C$34,wskaźniki_efektu!$C$1-wskaźniki_efektu!$A$1,FALSE),"") | S15: =VLOOKUP($B15,gminy_26[[nazwa gminy]:[kod gminy2]],2,FALSE) -> 2605052 | T15: =VLOOKUP($S15,gminy_26[],katalog_gmin_PL26!$F$1,FALSE) -> PL2602
A16: 6 | B16: =tabela_informacyjna_dla_JST!$C$9 -> Ruda Maleniecka | C16: =tabela_informacyjna_dla_JST!$C$8 -> konecki | D16: =IFERROR(CONCATENATE(tabela_informacyjna_dla_JST!$D$7,"_ZSO"),"brak nazwy gminy") -> PL2602_ZSO | E16: =IFERROR(VLOOKUP($D16,kat_zadania[],katalogi!$N$1-katalogi!$L$1,FALSE),"brak nazwy gminy") -> Ograniczenie emisji z instalacji o małej mocy do 1 MW, w których następuje spalanie paliw stałych | K16: =IFERROR(VLOOKUP($R16,kat_wsk_efektu[],wskaźniki_efektu!C$1,FALSE)*$I16/1000,"") | L16: =IFERROR(VLOOKUP($R16,kat_wsk_efektu[],wskaźniki_efektu!D$1,FALSE)*$I16/1000,"") | M16: =IFERROR(VLOOKUP($R16,kat_wsk_efektu[],wskaźniki_efektu!E$1,FALSE)*$I16/1000,"") | R16: =IFERROR(VLOOKUP($H16,wskaźniki_efektu!$B$21:$C$34,wskaźniki_efektu!$C$1-wskaźniki_efektu!$A$1,FALSE),"") | S16: =VLOOKUP($B16,gminy_26[[nazwa gminy]:[kod gminy2]],2,FALSE) -> 2605052 | T16: =VLOOKUP($S16,gminy_26[],katalog_gmin_PL26!$F$1,FALSE) -> PL2602
A17: 7 | B17: =tabela_informacyjna_dla_JST!$C$9 -> Ruda Maleniecka | C17: =tabela_informacyjna_dla_JST!$C$8 -> konecki | D17: =IFERROR(CONCATENATE(tabela_informacyjna_dla_JST!$D$7,"_ZSO"),"brak nazwy gminy") -> PL2602_ZSO | E17: =IFERROR(VLOOKUP($D17,kat_zadania[],katalogi!$N$1-katalogi!$L$1,FALSE),"brak nazwy gminy") -> Ograniczenie emisji z instalacji o małej mocy do 1 MW, w których następuje spalanie paliw stałych | K17: =IFERROR(VLOOKUP($R17,kat_wsk_efektu[],wskaźniki_efektu!C$1,FALSE)*$I17/1000,"") | L17: =IFERROR(VLOOKUP($R17,kat_wsk_efektu[],wskaźniki_efektu!D$1,FALSE)*$I17/1000,"") | M17: =IFERROR(VLOOKUP($R17,kat_wsk_efektu[],wskaźniki_efektu!E$1,FALSE)*$I17/1000,"") | R17: =IFERROR(VLOOKUP($H17,wskaźniki_efektu!$B$21:$C$34,wskaźniki_efektu!$C$1-wskaźniki_efektu!$A$1,FALSE),"") | S17: =VLOOKUP($B17,gminy_26[[nazwa gminy]:[kod gminy2]],2,FALSE) -> 2605052 | T17: =VLOOKUP($S17,gminy_26[],katalog_gmin_PL26!$F$1,FALSE) -> PL2602
A18: 8 | B18: =tabela_informacyjna_dla_JST!$C$9 -> Ruda Maleniecka | C18: =tabela_informacyjna_dla_JST!$C$8 -> konecki | D18: =IFERROR(CONCATENATE(tabela_informacyjna_dla_JST!$D$7,"_ZSO"),"brak nazwy gminy") -> PL2602_ZSO | E18: =IFERROR(VLOOKUP($D18,kat_zadania[],katalogi!$N$1-katalogi!$L$1,FALSE),"brak nazwy gminy") -> Ograniczenie emisji z instalacji o małej mocy do 1 MW, w których następuje spalanie paliw stałych | K18: =IFERROR(VLOOKUP($R18,kat_wsk_efektu[],wskaźniki_efektu!C$1,FALSE)*$I18/1000,"") | L18: =IFERROR(VLOOKUP($R18,kat_wsk_efektu[],wskaźniki_efektu!D$1,FALSE)*$I18/1000,"") | M18: =IFERROR(VLOOKUP($R18,kat_wsk_efektu[],wskaźniki_efektu!E$1,FALSE)*$I18/1000,"") | R18: =IFERROR(VLOOKUP($H18,wskaźniki_efektu!$B$21:$C$34,wskaźniki_efektu!$C$1-wskaźniki_efektu!$A$1,FALSE),"") | S18: =VLOOKUP($B18,gminy_26[[nazwa gminy]:[kod gminy2]],2,FALSE) -> 2605052 | T18: =VLOOKUP($S18,gminy_26[],katalog_gmin_PL26!$F$1,FALSE) -> PL2602
A19: 9 | B19: =tabela_informacyjna_dla_JST!$C$9 -> Ruda Maleniecka | C19: =tabela_informacyjna_dla_JST!$C$8 -> konecki | D19: =IFERROR(CONCATENATE(tabela_informacyjna_dla_JST!$D$7,"_ZSO"),"brak nazwy gminy") -> PL2602_ZSO | E19: =IFERROR(VLOOKUP($D19,kat_zadania[],katalogi!$N$1-katalogi!$L$1,FALSE),"brak nazwy gminy") -> Ograniczenie emisji z instalacji o małej mocy do 1 MW, w których następuje spalanie paliw stałych | K19: =IFERROR(VLOOKUP($R19,kat_wsk_efektu[],wskaźniki_efektu!C$1,FALSE)*$I19/1000,"") | L19: =IFERROR(VLOOKUP($R19,kat_wsk_efektu[],wskaźniki_efektu!D$1,FALSE)*$I19/1000,"") | M19: =IFERROR(VLOOKUP($R19,kat_wsk_efektu[],wskaźniki_efektu!E$1,FALSE)*$I19/1000,"") | R19: =IFERROR(VLOOKUP($H19,wskaźniki_efektu!$B$21:$C$34,wskaźniki_efektu!$C$1-wskaźniki_efektu!$A$1,FALSE),"") | S19: =VLOOKUP($B19,gminy_26[[nazwa gminy]:[kod gminy2]],2,FALSE) -> 2605052 | T19: =VLOOKUP($S19,gminy_26[],katalog_gmin_PL26!$F$1,FALSE) -> PL2602
A20: 10 | B20: =tabela_informacyjna_dla_JST!$C$9 -> Ruda Maleniecka | C20: =tabela_informacyjna_dla_JST!$C$8 -> konecki | D20: =IFERROR(CONCATENATE(tabela_informacyjna_dla_JST!$D$7,"_ZSO"),"brak nazwy gminy") -> PL2602_ZSO | E20: =IFERROR(VLOOKUP($D20,kat_zadania[],katalogi!$N$1-katalogi!$L$1,FALSE),"brak nazwy gminy") -> Ograniczenie emisji z instalacji o małej mocy do 1 MW, w których następuje spalanie paliw stałych | K20: =IFERROR(VLOOKUP($R20,kat_wsk_efektu[],wskaźniki_efektu!C$1,FALSE)*$I20/1000,"") | L20: =IFERROR(VLOOKUP($R20,kat_wsk_efektu[],wskaźniki_efektu!D$1,FALSE)*$I20/1000,"") | M20: =IFERROR(VLOOKUP($R20,kat_wsk_efektu[],wskaźniki_efektu!E$1,FALSE)*$I20/1000,"") | R20: =IFERROR(VLOOKUP($H20,wskaźniki_efektu!$B$21:$C$34,wskaźniki_efektu!$C$1-wskaźniki_efektu!$A$1,FALSE),"") | S20: =VLOOKUP($B20,gminy_26[[nazwa gminy]:[kod gminy2]],2,FALSE) -> 2605052 | T20: =VLOOKUP($S20,gminy_26[],katalog_gmin_PL26!$F$1,FALSE) -> PL2602

Sheet tab.1_ZSO_powiaty
A1: * pole wymagane
E2: rok sprawozdawczy | F2: =IF(tabela_informacyjna_dla_JST!$E$5=0,"brak roku sprawozdawczego",tabela_informacyjna_dla_JST!$E$5) -> brak roku sprawozdawczego
E3: wymagany efekt rzeczowy w powiecie powierzchnia ogółem [m2] | F3: =SUMIFS(gminy_26[ogółem],gminy_26[kod powiatu],tabela_informacyjna_dla_JST!$F$8) -> 0
E4: wymagana powierzchnia w roku sprawozdawczym w powiecie [m2] | F4: =IFERROR(VLOOKUP(tabela_informacyjna_dla_JST!$F$8,katalog_gmin_PL26!$S$4:$Z$17,$F$2-2018,FALSE),"brak nazwy powiatu lub roku") -> brak nazwy powiatu lub roku | I4: SUMA
I5: [m2] | J5: [szt.] | K5: [kg/rok] | L5: [kg/rok] | M5: [kg/rok]
A6: Tabela 1. Sprawozdanie w zakresie działań ograniczających emisję z instalacji o małej mocy do 1 MW ujętych w harmonogramie realizacji POP | I6: =SUM(I11:I20) -> 0 | J6: =SUM(J11:J20) -> 0 | K6: =SUM(K11:K20) -> 0 | L6: =SUM(L11:L20) -> 0 | M6: =SUM(M11:M20) -> 0 | N6: =SUM(N11:N20) -> 0 | O6: =SUM(O11:O20) -> 0
A7: Lp. | B7: gmina* | C7: powiat | D7: kod zadania | E7: nazwa zadania | F7: krótki opis prowadzonych działań | G7: lokalizacja | H7: wskaźnik konitorowania postępu | K7: osiągnięty efekt redkcji emisji [kg/rok] | N7: koszty łącznie [zł]* | O7: w tym wysokość uzyskanego dofinansowania zewnętrznego [zł] | P7: sposób finansowania | Q7: wymagana powierzchnia [m2] | S7: pomoc
H8: liczba i powierzchnia budynków, w tym jednorodzinnych i wielorodzinnych, w których nieefektywne indywidulne źródło ciepła na paliwa stałe* | I8: powierzchnia [m2]* | J8: liczba kotłów [szt.] | K8: PM10 | L8: PM2,5 | M8: B(a)P | Q8: wymagany efekt rzeczowy w wybranym roku sprawozdawczym dla wybranej GMINY | S8: zestaw wsk_efektu | T8: kod gminy | U8: kod strefy | V8: gminy wybraneg powiatu
A9: 1 | B9: =A9+1 -> 2 | C9: =B9+1 -> 3 | D9: =C9+1 -> 4 | E9: =D9+1 -> 5 | F9: =E9+1 -> 6 | G9: =F9+1 -> 7 | H9: =G9+1 -> 8 | I9: =H9+1 -> 9 | ... Q9: =P9+1 -> 17 | S9: p1 | T9: p2 | U9: p3 | V9: p4
B10: proszę wybrać z listy rozwijanej gminę, na terenie której prowadzono działania | C10: wypełnia się automatycznie, zgodnie z tabelą informacyjną | D10: wypełnia się automatycznie | E10: wypełnia się automatycznie | F10: krótko opisać rodzaj prowadzonych działań inwestycyjnych lub modernizacyjnych i ich wpływ na wielkość emisji zanieczyszczeń do powietrza | G10: podać miejscowość lub osiedle w gminach miejskich, gdzie zostało przeprowadzone działanie naprawcze | H10: proszę wybrać wskaźnik z listy rozwijanej | I10: proszę podać łączną powierzchnię lokali, budynków, na której przeprowadzono zmiany wskazane w kolumnie 8 | J10: proszę podać łączną liczbę zlikwidowanych lub zmienionych kotłów wskazanych w kolumnie 8 | K10: wypełnia się automatycznie | L10: wypełnia się automatycznie | M10: wypełnia się automatycznie | N10: podać koszty sumaryczne poniesione na realizację zadania | O10: jeżeli uzyskano dofinansowanie podać w jakiej kwocie | P10: wskazać źródła finansowania działania, wskazując wysokość dofinansowania | Q10: wypełnia się automatycznie dla gminy podanej w kolumnie 2 | S10: pomoc | T10: pomoc | U10: pomoc | V10: pomoc
A11: 1 | C11: =tabela_informacyjna_dla_JST!$E$8 -> 0 | D11: =IFERROR(CONCATENATE($U11,"_ZSO"),"brak nazwy gminy") -> brak nazwy gminy | E11: =IFERROR(VLOOKUP($D11,kat_zadania[],katalogi!$N$1-katalogi!$L$1,FALSE),"brak nazwy gminy") -> brak nazwy gminy | K11: =IFERROR(VLOOKUP($S11,kat_wsk_efektu[],wskaźniki_efektu!C$1,FALSE)*$I11/1000,"") | L11: =IFERROR(VLOOKUP($S11,kat_wsk_efektu[],wskaźniki_efektu!D$1,FALSE)*$I11/1000,"") | M11: =IFERROR(VLOOKUP($S11,kat_wsk_efektu[],wskaźniki_efektu!E$1,FALSE)*$I11/1000,"") | Q11: =IFERROR(VLOOKUP($T11,gminy_26[],(katalog_gmin_PL26!$I$1+$F$2-2020),FALSE),"brak nazwy gminy w kolumnie 2") -> brak nazwy gminy w kolumnie 2 | S11: =IFERROR(VLOOKUP($H11,wskaźniki_efektu!$B$21:$C$34,wskaźniki_efektu!$C$1-wskaźniki_efektu!$A$1,FALSE),"") | T11: =VLOOKUP($B11,gminy_26[[nazwa gminy]:[kod gminy2]],2,FALSE) -> #N/A | U11: =VLOOKUP($T11,gminy_26[],katalog_gmin_PL26!$F$1,FALSE) -> #N/A | V11: {=_xlfn._xlws.SORT(_xlfn._xlws.FILTER(gminy_26[nazwa gminy],gminy_26[nazwa powiatu]=tabela_informacyjna_dla_JST!$E$8))} -> #NAME?
A12: 2 | C12: =tabela_informacyjna_dla_JST!$E$8 -> 0 | D12: =IFERROR(CONCATENATE($U12,"_ZSO"),"brak nazwy gminy") -> brak nazwy gminy | E12: =IFERROR(VLOOKUP($D12,kat_zadania[],katalogi!$N$1-katalogi!$L$1,FALSE),"brak nazwy gminy") -> brak nazwy gminy | K12: =IFERROR(VLOOKUP($S12,kat_wsk_efektu[],wskaźniki_efektu!C$1,FALSE)*$I12/1000,"") | L12: =IFERROR(VLOOKUP($S12,kat_wsk_efektu[],wskaźniki_efektu!D$1,FALSE)*$I12/1000,"") | M12: =IFERROR(VLOOKUP($S12,kat_wsk_efektu[],wskaźniki_efektu!E$1,FALSE)*$I12/1000,"") | Q12: =IFERROR(VLOOKUP($T12,gminy_26[],(katalog_gmin_PL26!$I$1+$F$2-2020),FALSE),"brak nazwy gminy w kolumnie 2") -> brak nazwy gminy w kolumnie 2 | S12: =IFERROR(VLOOKUP($H12,wskaźniki_efektu!$B$21:$C$34,wskaźniki_efektu!$C$1-wskaźniki_efektu!$A$1,FALSE),"") | T12: =VLOOKUP($B12,gminy_26[[nazwa gminy]:[kod gminy2]],2,FALSE) -> #N/A | U12: =VLOOKUP($T12,gminy_26[],katalog_gmin_PL26!$F$1,FALSE) -> #N/A | V12: #NAME?
A13: 3 | C13: =tabela_informacyjna_dla_JST!$E$8 -> 0 | D13: =IFERROR(CONCATENATE($U13,"_ZSO"),"brak nazwy gminy") -> brak nazwy gminy | E13: =IFERROR(VLOOKUP($D13,kat_zadania[],katalogi!$N$1-katalogi!$L$1,FALSE),"brak nazwy gminy") -> brak nazwy gminy | K13: =IFERROR(VLOOKUP($S13,kat_wsk_efektu[],wskaźniki_efektu!C$1,FALSE)*$I13/1000,"") | L13: =IFERROR(VLOOKUP($S13,kat_wsk_efektu[],wskaźniki_efektu!D$1,FALSE)*$I13/1000,"") | M13: =IFERROR(VLOOKUP($S13,kat_wsk_efektu[],wskaźniki_efektu!E$1,FALSE)*$I13/1000,"") | Q13: =IFERROR(VLOOKUP($T13,gminy_26[],(katalog_gmin_PL26!$I$1+$F$2-2020),FALSE),"brak nazwy gminy w kolumnie 2") -> brak nazwy gminy w kolumnie 2 | S13: =IFERROR(VLOOKUP($H13,wskaźniki_efektu!$B$21:$C$34,wskaźniki_efektu!$C$1-wskaźniki_efektu!$A$1,FALSE),"") | T13: =VLOOKUP($B13,gminy_26[[nazwa gminy]:[kod gminy2]],2,FALSE) -> #N/A | U13: =VLOOKUP($T13,gminy_26[],katalog_gmin_PL26!$F$1,FALSE) -> #N/A | V13: #NAME?
A14: 4 | C14: =tabela_informacyjna_dla_JST!$E$8 -> 0 | D14: =IFERROR(CONCATENATE($U14,"_ZSO"),"brak nazwy gminy") -> brak nazwy gminy | E14: =IFERROR(VLOOKUP($D14,kat_zadania[],katalogi!$N$1-katalogi!$L$1,FALSE),"brak nazwy gminy") -> brak nazwy gminy | K14: =IFERROR(VLOOKUP($S14,kat_wsk_efektu[],wskaźniki_efektu!C$1,FALSE)*$I14/1000,"") | L14: =IFERROR(VLOOKUP($S14,kat_wsk_efektu[],wskaźniki_efektu!D$1,FALSE)*$I14/1000,"") | M14: =IFERROR(VLOOKUP($S14,kat_wsk_efektu[],wskaźniki_efektu!E$1,FALSE)*$I14/1000,"") | Q14: =IFERROR(VLOOKUP($T14,gminy_26[],(katalog_gmin_PL26!$I$1+$F$2-2020),FALSE),"brak nazwy gminy w kolumnie 2") -> brak nazwy gminy w kolumnie 2 | S14: =IFERROR(VLOOKUP($H14,wskaźniki_efektu!$B$21:$C$34,wskaźniki_efektu!$C$1-wskaźniki_efektu!$A$1,FALSE),"") | T14: =VLOOKUP($B14,gminy_26[[nazwa gminy]:[kod gminy2]],2,FALSE) -> #N/A | U14: =VLOOKUP($T14,gminy_26[],katalog_gmin_PL26!$F$1,FALSE) -> #N/A | V14: #NAME?
A15: 5 | C15: =tabela_informacyjna_dla_JST!$E$8 -> 0 | D15: =IFERROR(CONCATENATE($U15,"_ZSO"),"brak nazwy gminy") -> brak nazwy gminy | E15: =IFERROR(VLOOKUP($D15,kat_zadania[],katalogi!$N$1-katalogi!$L$1,FALSE),"brak nazwy gminy") -> brak nazwy gminy | K15: =IFERROR(VLOOKUP($S15,kat_wsk_efektu[],wskaźniki_efektu!C$1,FALSE)*$I15/1000,"") | L15: =IFERROR(VLOOKUP($S15,kat_wsk_efektu[],wskaźniki_efektu!D$1,FALSE)*$I15/1000,"") | M15: =IFERROR(VLOOKUP($S15,kat_wsk_efektu[],wskaźniki_efektu!E$1,FALSE)*$I15/1000,"") | Q15: =IFERROR(VLOOKUP($T15,gminy_26[],(katalog_gmin_PL26!$I$1+$F$2-2020),FALSE),"brak nazwy gminy w kolumnie 2") -> brak nazwy gminy w kolumnie 2 | S15: =IFERROR(VLOOKUP($H15,wskaźniki_efektu!$B$21:$C$34,wskaźniki_efektu!$C$1-wskaźniki_efektu!$A$1,FALSE),"") | T15: =VLOOKUP($B15,gminy_26[[nazwa gminy]:[kod gminy2]],2,FALSE) -> #N/A | U15: =VLOOKUP($T15,gminy_26[],katalog_gmin_PL26!$F$1,FALSE) -> #N/A | V15: #NAME?
