Workbook

Sheet Instrukcja wypełniania DPAE
A1: INSTRUKCJA WYPEŁNIANIA DOKUMENTU PODSUMOWUJĄCEGO AUDYT ENERGETYCZNY Składanego jako załącznik do wniosku o płatność w ramach programu priorytetowego "Czyste Powietrze"
A2: 1. | B2: W Dokumencie należy wypełniać jedynie pola w kolorze białym, z wyjątkiem sytuacji opisanych poniżej w pkt 5.4 i 5.5 poniżej (pola w kolorze jasnożółtym lub jasnozielonym).
A3: 2. | B3: Pola w odcieniach szarości, a także pola w kolorze żółtym i zielonym zawierające jednostki nie powinny być wypełniane.
A4: 3. | B4: Sekcja I Dane o budynku mieszkalnym / lokalu mieszkalnym
A5: 3.1 | B5: W sekcji należy podać dane dot. budynku / lokalu mieszkalnego.
A6: 4. | B6: W sekcji II. Zakres rzeczowy wchodzący w skład wariantu optymalnego z audytu energetycznego (wariantu wybranego do realizacji przez audytora) należy wpisywać przedsięzięcia/ulepszenia/usprawnienia wskazane do realizacji w wariancie optymalnym. Przedsięzięcia te powinny być ujęte w sposób skrótowy/hasłowy, a jednocześnie powinny umożliwiać w prosty sposób weryfikację pojęć z pojęciami wpisanymi do audytu energetycznego, np.: modernizacja systemu grzewczego i systemu przygotowania ciepłej wody użytkowej.
A7: 4.2 | B7: Jeżeli audyt energetyczny uwzględnia instalację kolektorów słonecznych lub fotowoltaiki należy podać odpowiednio powierzchnię/moc instalacji.
A8: 5. | B8: Sekcja III. Wskaźniki rocznego zapotrzebowania na ciepło do ogrzewania budynku
A9: 5.1 | B9: Należy podać główne źródło ciepła wykorzystywane na potrzeby ogrzewania przed termomodernizacją i po termomodernizacji - źródło należy wybrać z listy rozwijanej.
A10: 5.2 | B10: Następnie należy podać wartość zapotrzebowania na energię użytkową EU do ogrzewania budunku przed termomodernizacją i po termomodernizacji. W audycie jest to wskaźnik rocznego zapotrzebowania na ciepło do ogrzewania budynku (bez uwzględnienia sprawności systemu grzewczego i przerw w ogrzewaniu) [kWh/(m2*rok)]. Jeżeli wartość EU po termomodernizacji jest wyższa niż 80 kWh/(m2*rok) - wartość podświetla się na czerwono. Nie stanowi to o błędzie pod warunkiem spełnienia redukcji EU na poziomie min. 40%. Jeżeli redukcja EU jest mniejsza niż 40% - wartość wyświetla się na czerwono. Nie stanowi to o błędzie pod warunkiem osiągnięcia wartość EU na poziomie min. 80 kWh/(m2*rok).
A11: 5.3 | B11: Należy podać wartość zapotrzebowania na energię końcową EK do ogrzewania budynku, która została obliczona w audycie energetycznym. W audycie jest to wskaźnik rocznego zapotrzebowania na ciepło do ogrzewania budynku (z uwzględnienia sprawności systemu grzewczego i przerw w ogrzewaniu) [kWh/(m2*rok)].
A12: 5.4 | B12: Następnie należy odpowiedzieć na pytanie: czy wartość zapotrzebowania na energię pierwotną EP do ogrzewania budynku została obliczona w audycie energetycznym? Jeżeli w ramach audytu energetycznego zostały obliczone te wrtości - należy je wpisać w pola E28 i G28. W przeciwnym wypadku wartości zostaną wyliczone automatycznie.
A13: 5.5 | B13: Następnie należy odpowiedzić na pytania: Czy wartość redukcji emisji PM10/BaP/CO2 zostały wyliczone w audycie energetycznym. Jeżeli w ramach audytu energetycznego zostały obliczone te wartości - należy je wpisać odpowiednio w pola E34, E35 lub E36. W przeciwnym wypadku wartości zostaną wyliczone automatycznie.
... A23: 12. | B23: Uwaga! Pola z błędami są oznaczone na czerwono z różowym tłem.

Sheet DPAE
A1: DOKUMENT PODSUMOWUJĄCY AUDYT ENERGETYCZNY PODSUMOWANIE OBLICZEŃ AUDTOWYCH Z WYLICZENIEM EFEKTÓW ENERGETYCZNYCH I EKOLOGICZNYCH ZAŁĄCZNIK DO WNIOSKU O PŁATNOŚĆ W RAMACH PROGRAMU PRIORYTETOWEGO CZYSTE POWIETRZE Niniejszy dokument nie stanowi audytu energetycznego, a jest jedynie jego podsumowaniem. Oryginalny audyt energetyczny powinien być przechowywany przez Beneficjenta i udostępniany do kontroli przez Wojewódzki Fundusz Ochrony Środowiska i Gospodarki Wodnej właściwy ze względu na lokalizację budynku/lokalu mieszkalnego, którego dotyczy, lub przez inny podmiot wskazany w umowie dotacji.
A2: I. Dane o budynku mieszkalnym / lokalu mieszkalnym | AI2: TAK
E3: Kod pocztowy | G3: Miejscowość
A4: Adres budynku jednorodzinnego mieszkalnego / lokalu mieszkalnego | E4: Ulica
E5: Nr budynku | G5: Nr lokalu
A6: Powierzchnia użytkowa budynku | H6: m2
A7: II. Zakres rzeczowy wchodzący w skład wariantu optymalnego z audytu energetycznego (wariantu wybranego do realizacji przez audytora) 1)
A8: 1. | B8: Np. Modernizacja systemu grzewczego i systemu przygotowania ciepłej wody użytkowej
A9: 2. | B9: Np. Modernizacja przegrody ściana zewnętrzna piwnica i parter
A10: 3.
A11: 4.
A12: 5.
A13: 6.
A14: 7.
A15: 8.
A16: 9.
A17: 10.
A18: 11.
A19: Odnawialne Źródła Energii (OZE) - jeśli dotyczy:
A20: 1. | B20: Kolektory słoneczne o powierzchni: | I20: m2
A21: 2. | B21: Instalacja fotowoltaiczna (PV) o mocy: | I21: kWp
A22: III. Wskaźniki rocznego zapotrzebowania na ciepło do ogrzewania budynku i redukcji niektórych emisji - zgodnie z audytem energetycznym.
E23: Przed termomodernizacją: | G23: Po termomodernizacji: | I23: Redukcja w [%]
E24: Wartość | F24: Jednostka | G24: Wartość | H24: Jednostka
A25: 1. | B25: Główne źródło ciepła | J25: =AND(G25='Arkusz 1'!$C$17,E25='Arkusz 1'!$C$4) -> FALSE
A26: 2. | B26: Zapotrzebowanie na energię użytkową EU(H+W) do ogrzewania budynku 2) | F26: kWh/(m2*rok) | H26: kWh/(m2*rok) | I26: =IF(E26="","",IF(G26="","",ROUND((E26-G26)/E26,2))) | J26: =AND(G26>80,I26<0.4) -> FALSE
A27: 3. | B27: Zapotrzebowanie na energią końcową EK(H+W) do ogrzewania budynku 3) | F27: kWh/(m2*rok) | H27: kWh/(m2*rok) | I27: =IF(E27="","",IF(G27="","",ROUND((E27-G27)/E27,2)))
A28: 4. | B28: Zapotrzebowanie na energię pierwotną EP(H+W) do ogrzewania budynku | C28: Czy wartość została obliczona w audycie energetycznym? | E28: =IF(D28="","",IF(D28="TAK","Należy TUTAJ wpisać wartość z audytu",IF(E25="","Podaj główne źródło ciepła - powyżej",IF(OR(AND(E25<>'Arkusz 1'!$C$4,G25<>'Arkusz 1'!$C$17),(AND(E25='Arkusz 1'!$C$4,G25='Arkusz 1'!$C$17))),"Błąd - przedsięwzięcie niezgodne z PPCP",IF(E27="","Należy uzupełnić pole dla EK - powyżej",E27*(VLOOKUP(E25,'Arkusz 1'!$C$28:$L$35,4,FALSE))))))) | F28: kWh/(m2*rok) | G28: =IF(D28="","",IF(D28="TAK","Należy TUTAJ wpisać wartość z audytu",IF(G25="","Podaj główne źródło ciepła - powyżej",IF(OR(AND(E25<>'Arkusz 1'!$C$4,G25<>'Arkusz 1'!$C$17),(AND(E25='Arkusz 1'!$C$4,G25='Arkusz 1'!$C$17))),"Błąd - przedsięwzięcie niezgodne z PPCP",IF(G27="","Należy uzupełnić pole dla EK - powyżej",IF(G25='Arkusz 1'!$C$17,G27*(VLOOKUP(E25,'Arkusz 1'!$C$28:$L$35,4,FALSE)),IF(OR($G$25='Arkusz 1'!$C$6,$G$25='Arkusz 1'!$C$7,$G$25='Arkusz 1'!$C$8,$G$25='Arkusz 1'!$C$9),MAX(0,G27*(VLOOKUP(G25,'Arkusz 1'!$C$4:$L$17,4,FALSE))-($H$21*750/$E$6)),G27*(VLOOKUP(G25,'Arkusz 1'!$C$4:$L$17,4,FALSE))))))))) | H28: kWh/(m2*rok) | I28: =IF(OR(E25="",G25=""),"",IF(OR(E25="",G25=""),"",IF(OR(AND(E25<>'Arkusz 1'!$C$4,G25<>'Arkusz 1'!$C$17),(AND(E25='Arkusz 1'!$C$4,G25='Arkusz 1'!$C$17))),"Błąd - przedsięwzięcie niezgodne z PPCP",IF(OR(E28="",E28="Należy TUTAJ wpisać wartość z audytu"),"",IFERROR(ROUND((E28-G28)/E28,2),"")))))
A29: 5. | B29: Emisja pyłu PM10 | C29: Czy wartość została obliczona w audycie energetycznym? | E29: =IF(D29="","",IF(D29="TAK","Należy TUTAJ wpisać wartość z audytu",IF(E25="","Podaj główne źródło ciepła - powyżej",IF(OR(AND(E25<>'Arkusz 1'!$C$4,G25<>'Arkusz 1'!$C$17),(AND(E25='Arkusz 1'!$C$4,G25='Arkusz 1'!$C$17))),"Błąd - przedsięwzięcie niezgodne z PPCP",IF(OR(E28="",E28="Należy TUTAJ wpisać wartość z audytu"),"Należy uzupełnić pola dla EP - powyżej",IF(E28="Należy uzupełnić pole dla EK - powyżej","Należy uzupełnić pole dla EK - powyżej",IF(E28="Podaj główne źródło ciepła - powyżej","Podaj główne źródło ciepła - powyżej",(E28*$E$6/1000*(VLOOKUP(E25,'Arkusz 1'!$C$28:$L$35,9,FALSE)))))))))) | F29: g/rok | G29: =IF(D29="","",IF(D29="TAK","Należy TUTAJ wpisać wartość z audytu",IF(G25="","Podaj główne źródło ciepła - powyżej",IF(OR(AND(E25<>'Arkusz 1'!$C$4,G25<>'Arkusz 1'!$C$17),(AND(E25='Arkusz 1'!$C$4,G25='Arkusz 1'!$C$17))),"Błąd - przedsięwzięcie niezgodne z PPCP",IF(OR(G28="",G28="Należy TUTAJ wpisać wartość z audytu"),"Należy uzupełnić pola dla EP - powyżej",IF(G28="Należy uzupełnić pole dla EK - powyżej","Należy uzupełnić pole dla EK - powyżej",IF(G28="Podaj główne źródło ciepła - powyżej","Podaj główne źródło ciepła - powyżej",(G28*$E$6/1000*(IF(G25='Arkusz 1'!$C$17,(VLOOKUP(E25,'Arkusz 1'!$C$28:$L$35,9,FALSE)),(VLOOKUP(G25,'Arkusz 1'!$C$4:$L$17,9,FALSE)))))))))))) | H29: g/rok | I29: =IF(OR(E25="",G25=""),"",IF(OR(AND(E25<>'Arkusz 1'!$C$4,G25<>'Arkusz 1'!$C$17),(AND(E25='Arkusz 1'!$C$4,G25='Arkusz 1'!$C$17))),"Błąd - przedsięwzięcie niezgodne z PPCP",IF(OR(E29="",E29="Należy TUTAJ wpisać wartość z audytu",E29="Należy uzupełnić wartość EP powyżej"),"",IFERROR(ROUND((E29-G29)/E29,2),""))))
A30: 6. | B30: Emisja benzo(a)pirenu | C30: Czy wartość została obliczona w audycie energetycznym? | E30: =IF(D30="","",IF(D30="TAK","Należy TUTAJ wpisać wartość z audytu",IF(E25="","Podaj główne źródło ciepła - powyżej",IF(OR(AND(E25<>'Arkusz 1'!$C$4,G25<>'Arkusz 1'!$C$17),(AND(E25='Arkusz 1'!$C$4,G25='Arkusz 1'!$C$17))),"Błąd - przedsięwzięcie niezgodne z PPCP",IF(OR(E28="",E28="Należy TUTAJ wpisać wartość z audytu"),"Należy uzupełnić pola dla EP - powyżej",IF(E28="Należy uzupełnić pole dla EK - powyżej","Należy uzupełnić pole dla EK - powyżej",IF(E28="Podaj główne źródło ciepła - powyżej","Podaj główne źródło ciepła - powyżej",(E28*$E$6/1000*(VLOOKUP(E25,'Arkusz 1'!$C$28:$L$35,10,FALSE)))))))))) | F30: g/rok | G30: =IF(D30="","",IF(D30="TAK","Należy TUTAJ wpisać wartość z audytu",IF(G25="","Podaj główne źródło ciepła - powyżej",IF(OR(AND(E25<>'Arkusz 1'!$C$4,G25<>'Arkusz 1'!$C$17),(AND(E25='Arkusz 1'!$C$4,G25='Arkusz 1'!$C$17))),"Błąd - przedsięwzięcie niezgodne z PPCP",IF(OR(G28="",G28="Należy TUTAJ wpisać wartość z audytu"),"Należy uzupełnić pola dla EP - powyżej",IF(G28="Należy uzupełnić pole dla EK - powyżej","Należy uzupełnić pole dla EK - powyżej",IF(G28="Podaj główne źródło ciepła - powyżej","Podaj główne źródło ciepła - powyżej",(G28*$E$6/1000*((IF(G25='Arkusz 1'!$C$17,(VLOOKUP(E25,'Arkusz 1'!$C$28:$L$35,10,FALSE)),(VLOOKUP(G25,'Arkusz 1'!$C$4:$L$17,10,FALSE))))))))))))) | H30: g/rok | I30: =IF(OR(E25="",G25=""),"",IF(OR(AND(E25<>'Arkusz 1'!$C$4,G25<>'Arkusz 1'!$C$17),(AND(E25='Arkusz 1'!$C$4,G25='Arkusz 1'!$C$17))),"Błąd - przedsięwzięcie niezgodne z PPCP",IF(OR(E30="",E30="Należy TUTAJ wpisać wartość z audytu",E30="Należy uzupełnić wartość EP powyżej"),"",IF(AND(E30=0,G30=0),0,IFERROR(ROUND((E30-G30)/E30,2),"")))))
A31: 7. | B31: Emisja CO2 | C31: Czy wartość została obliczona w audycie energetycznym? | E31: =IF(D31="","",IF(D31="TAK","Należy TUTAJ wpisać wartość z audytu",IF(E25="","Podaj główne źródło ciepła - powyżej",IF(OR(AND(E25<>'Arkusz 1'!$C$4,G25<>'Arkusz 1'!$C$17),(AND(E25='Arkusz 1'!$C$4,G25='Arkusz 1'!$C$17))),"Błąd - przedsięwzięcie niezgodne z PPCP",IF(E27="","Należy uzupełnić pole dla EK - powyżej",(E27*$E$6/1000*(VLOOKUP(E25,'Arkusz 1'!$C$28:$L$35,8,FALSE)))))))) | F31: kg/rok | G31: =IF(D31="","",IF(D31="TAK","Należy TUTAJ wpisać wartość z audytu",IF(G25="","Podaj główne źródło ciepła - powyżej",IF(OR(AND(E25<>'Arkusz 1'!$C$4,G25<>'Arkusz 1'!$C$17),(AND(E25='Arkusz 1'!$C$4,G25='Arkusz 1'!$C$17))),"Błąd - przedsięwzięcie niezgodne z PPCP",IF(G27="","Należy uzupełnić pole dla EK - powyżej",MAX(G27*$E$6/1000*(IF(G25='Arkusz 1'!$C$17,(VLOOKUP(E25,'Arkusz 1'!$C$28:$L$35,8,FALSE)),(VLOOKUP(G25,'Arkusz 1'!$C$4:$L$17,8,FALSE))))-($H$21*750/10^3*'Arkusz 1'!J16),0)))))) | H31: kg/rok | I31: =IF(OR(E25="",G25=""),"",IF(OR(AND(E25<>'Arkusz 1'!$C$4,G25<>'Arkusz 1'!$C$17),(AND(E25='Arkusz 1'!$C$4,G25='Arkusz 1'!$C$17))),"Błąd - przedsięwzięcie niezgodne z PPCP",IF(OR(E31="",E31="Należy TUTAJ wpisać wartość z audytu",E31="Należy uzupełnić wartość EP powyżej"),"",IFERROR(ROUND((E31-G31)/E31,2),""))))
A32: IV. Wyliczenie efektów ekologicznych
H33: Wartość | I33: Jednostka
A34: 1. | B34: Ograniczenie zużycia energii użytkowej (∆EU) | H34: =IF(OR(E26="",G26=""),"",IFERROR((E26-G26)*$E$6/10^3,"")) | I34: MWh/rok
A35: 2. | B35: Ograniczenie zużycia energii końcowej (∆EK) | H35: =IF(OR(E27="",G27=""),"",IFERROR((E27-G27)*E6/10^3,"")) | I35: MWh/rok
A36: 3. | B36: Ograniczenie zużycia energii pierwotnej (∆EP) | H36: =IFERROR((E28-G28)*E6/10^3,"") | I36: MWh/rok
A37: 4. | B37: Ograniczenie emisji pyłu PM10 | H37: =IFERROR((E29-G29)/10^6,"") | I37: Mg/rok
A38: 5. | B38: Ograniczenie emisji benzo(a)pirenu | H38: =IFERROR((E30-G30)/10^6,"") | I38: Mg/rok
A39: 6. | B39: Zmniejszenie emisji CO2 | H39: =IFERROR((E31-G31)/10^3,"") | I39: Mg/rok
A40: 7. | B40: Dodatkowa zdolność wytwarzania energii elektrycznej z zainstalowanych mikroinstalacji fotowoltaicznych | H40: =IFERROR(H21/1000,"") -> 0 | I40: MWe
A41: V. Oświadczenia Audytora
A42: 1. | B42: Oświadczam, że wykonałem/wykonałam audyt energetyczny dotyczący budynku mieszkalnego / lokalu mieszkalnego wskazanego w części I niniejszego Dokumentu i przekazałem/przekazałam go Beneficjentowi w dniu:
A43: 2. | B43: Oświadczam, że dane wpisane w niniejszym Dokumencie podsumowującym audyt energetyczny są zgodne z audytem energetycznym, o którym mowa w Oświadczeniu nr 1.
A44: VI. Uwagi, komentarze, podpis
A45: Uwagi/komentarze: | E45: Imię, nazwisko, data i podpis Audytora:
A49: Objaśnienia
A50: 1) W tabeli należy wpisać rodzaje zadań (ulepszeń, usprawnień) wskazanych przez audytora do realizacji na podstawie wariantu optymalnego
A51: 2) W audycie jest to wskaźnik rocznego zapotrzebowania na ciepło do ogrzewania budynku (bez uwzględnienia sprawności systemu grzewczego i przerw w ogrzewaniu) [kWh/(m2*rok)]
A52: 3) W audycie jest to wskaźnik rocznego zapotrzebowania na ciepło do ogrzewania budynku (z uwzględnienia sprawności systemu grzewczego i przerw w ogrzewaniu) [kWh/(m2*rok)]
A54: WALIDACJA
A55: =IF(E28="Błąd - przedsięwzięcie niezgodne z PPCP","Błąd - przedsięwzięcie niezgodne z PPCP",IF(OR(E25="",E26="",E27="",G25="",G26="",G27="",I26=""),"Brak możliwości wykonania walidacji - brak danych dot. redukcji EU lub EK.",IF(G26>80,IF(I26<0.4,"Na podstawie niniejszego Dokumentu podsumowującego audyt energetyczny nie jest możliwe przyznanie dotacji do przedsięwzięcia z kompleksową termomodernizacją budynku/lokalu mieszkalnego.","Na podstawie niniejszego Dokumentu podsumowującego audyt energetyczny stwierdza się możliwość przyznania dotacji do przedsięwzięcia z kompleksową termomodernizacją budynku/lokalu mieszkalnego."),"Na podstawie niniejszego Dokumentu podsumowującego audyt energetyczny stwierdza się możliwość przyznania dotacji do przedsięwzięcia z kompleksową termomodernizacją budynku/lokalu mieszkalnego."))) -> Brak możliwości wykonania walidacji - brak danych dot. redukcji EU lub EK.

Sheet Arkusz 1
A1: Przedsięwzięcie dot. źródła ciepła | B1: Lp. | C1: Źródło ciepła | D1: paliwo: | E1: uśredniona sezonowa sprawność źródła ciepła 1) | F1: współczynnik nakładu nieodnawialnej energii pierwotnej 2) | G1: Wskaźniki emisji zanieczyszczeń - przeliczone na GJ | J1: Wskaźniki emisji zanieczyszczeń - przeliczenie na MWh (do sporządzenia obliczeń metodą wskaźnikową)
G2: CO2 3) | H2: PM10 4) | I2: BaP 4) | J2: CO2 | K2: PM10 | L2: BaP
G3: kg/GJ | H3: g/GJ | I3: g/GJ | J3: kg/MWh | K3: g/MWh | L3: g/MWh
A4: Stary piec: | B4: 0 | C4: Istniejące źródło ciepła na paliwo stałe - "kopciuch" | D4: paliwo stałe | E4: 0.65 | F4: 1.1 | G4: 94.77 | H4: 427 | I4: 0.28 | J4: =G4*3.6 -> 341.172 | K4: =H4*3.6 -> 1537.2 | L4: =I4*3.6 -> 1.008
A5: Wymiana żródła ciepła na żródło zgodne z Programem Czyste Powietrze: | B5: 1 | C5: Podłączenie do sieci ciepłowniczej wraz z przyłączem | D5: sieć ciepłownicza | E5: 0.95 | F5: 1.3 | G5: 93.49 | J5: =G5*3.6 -> 336.564
B6: 2 | C6: Pompa ciepła powietrze/woda | D6: energia elektryczna | E6: 2.8 | F6: 3 | G6: 193.88889 | J6: 698
B7: 3 | C7: Pompa ciepła powietrze/woda o podwyższonej klasie efektywności energetycznej | D7: energia elektryczna | E7: 2.9 | F7: 3 | G7: 193.88889 | J7: 698
B8: 4 | C8: Pompa ciepła typu powietrze/powietrze | D8: energia elektryczna | E8: 2.2 | F8: 3 | G8: 193.88889 | J8: 698
B9: 5 | C9: Gruntowa pompa ciepła o podwyższonej klasie efektywności energetycznej | D9: energia elektryczna | E9: 3.9 | F9: 3 | G9: 193.88889 | J9: 698
B10: 6 | C10: Kocioł gazowy kondensacyjny | D10: gaz ziemny | E10: 0.95 | F10: 1.1 | G10: 55.44 | H10: 0.3 | J10: =G10*3.6 -> 199.584 | K10: =H10*3.6 -> 1.08
B11: 7 | C11: Kotłownia gazowa (w tym: przyłącze gazowe i instalacja) | D11: gaz ziemny | E11: 0.95 | F11: 1.1 | G11: 55.44 | H11: 0.3 | J11: =G11*3.6 -> 199.584 | K11: =H11*3.6 -> 1.08
B12: 8 | C12: Kocioł olejowy kondensacyjny | D12: olej opałowy | E12: 0.95 | F12: 1.1 | G12: 76.56 | H12: 2 | I12: =0.12/1000 -> 0.00012 | J12: =G12*3.6 -> 275.616 | K12: =H12*3.6 -> 7.2 | L12: =I12*3.6 -> 0.000432
B13: 10 | C13: Kocioł zagazowywujący drewno | D13: biomasa | E13: 0.85 | F13: 1.1 | G13: 112 | H13: 16 | J13: 0 | K13: =H13*3.6 -> 57.6
B14: 11 | C14: Kocioł na pellet drzewny | D14: pellet | E14: 0.85 | F14: 0.2 | G14: 112 | H14: 16 | J14: 0 | K14: =H14*3.6 -> 57.6
B15: 12 | C15: Kocioł na pellet drzewny o podwyższonym standardzie | D15: pellet | E15: 0.85 | F15: 0.2 | G15: 112 | H15: 16 | J15: 0 | K15: =H15*3.6 -> 57.6
B16: 13 | C16: Ogrzewanie elektryczne | D16: energia elektryczna | E16: 1 | F16: 3 | G16: =J16/3.6 -> 193.88889 | J16: 698
A17: Brak wymiany źródła | B17: 0 | C17: Nie obejmowało wymiany źródła ciepła
B18: 9 | C18: Kocioł na węgiel z automatycznym podajnikiem | D18: paliwo stałe | E18: 0.85 | F18: 1.1 | G18: 94.77 | H18: 18 | J18: =G18*3.6 -> 341.172 | K18: =H18*3.6 -> 64.8
A19: 1) | B19: Na podstawie dostępnej literatury
A20: 2) | B20: Zgodnie z Rozporządzeniem Ministra Infrastruktury i Rozwoju z dnia 27 lutego 2015 r. w sprawie metodologii wyznaczania charakterystyki energetycznej budynku lub części budynku oraz świadectw charakterystyki energetycznej.
A21: 3) | B21: Zgodnie z opracowaniem KOBIZE: "Wartości opałowe (WO) i wskaźniki emisji CO2 (WE) w roku 2019 do raportowania w ramach Systemu Handlu Uprawnieniami do Emisji za rok 2022" z grudnia 2021 r. lub WSKAŹNIKI EMISYJNOŚCI CO2, SO2, NOx, CO i pyłu całkowitego DLA ENERGII ELEKTRYCZNEJ na podstawie informacji zawartych w Krajowej bazie o emisjach gazów cieplarnianych i innych substancji za 2020 rok
A22: 4) | B22: Zgodnie z zestawienie tabelarycznym Wskaźniki emisji zanieczyszczeń powietrza emitowanych z indywidualnych źródeł ciepła opracowane przez Instytut Chemicznej Przeróbki Węgla (wartości wskaźników zostały zaktualizowane w związku z pracą zrealizowaną przez Instytut Chemicznej Przeróbki Węgla na zlecenie IOŚ-PIB KOBiZE. Aktualizacja dokonywana w zależności od zmian prawnych i gospodarczych). (dane dla pozycji: 8, 21, 22, 33,34) Dane na dzień: 23 czerwca 2021. Dostęp: https://dane.gov.pl/pl/dataset/2182/resource/31256/table
A24: TAK
A25: NIE | C25: Źródło przed termo | D25: paliwo: | E25: uśredniona sezonowa sprawność źródła ciepła 1) | F25: współczynnik nakładu nieodnawialnej energii pierwotnej 2) | G25: Wskaźniki emisji zanieczyszczeń - przeliczone na GJ | J25: Wskaźniki emisji zanieczyszczeń - przeliczenie na MWh (do sporządzenia obliczeń metodą wskaźnikową)
G26: CO2 3) | H26: PM10 4) | I26: BaP 4) | J26: CO2 | K26: PM10 | L26: BaP
G27: kg/GJ | H27: g/GJ | I27: g/GJ | J27: kg/MWh | K27: g/MWh | L27: g/MWh
C28: Istniejące źródło ciepła na paliwo stałe - "kopciuch" | D28: =VLOOKUP($C28,$C$4:$L$18,2,FALSE) -> paliwo stałe | E28: =VLOOKUP($C28,$C$4:$L$18,3,FALSE) -> 0.65 | F28: =VLOOKUP($C28,$C$4:$L$18,4,FALSE) -> 1.1 | G28: =VLOOKUP($C28,$C$4:$L$18,5,FALSE) -> 94.77 | H28: =VLOOKUP($C28,$C$4:$L$18,6,FALSE) -> 427 | I28: =VLOOKUP($C28,$C$4:$L$18,7,FALSE) -> 0.28 | J28: =VLOOKUP($C28,$C$4:$L$18,8,FALSE) -> 341.172 | K28: =VLOOKUP($C28,$C$4:$L$18,9,FALSE) -> 1537.2 | L28: =VLOOKUP($C28,$C$4:$L$18,10,FALSE) -> 1.008
C29: Podłączenie do sieci ciepłowniczej | D29: =VLOOKUP(C5,$C$4:$L$18,2,FALSE) -> sieć ciepłownicza | E29: =VLOOKUP(C5,$C$4:$L$18,3,FALSE) -> 0.95 | F29: =VLOOKUP(C5,$C$4:$L$18,4,FALSE) -> 1.3 | G29: =VLOOKUP(C5,$C$4:$L$18,5,FALSE) -> 93.49 | H29: =VLOOKUP(C5,$C$4:$L$18,6,FALSE) -> 0 | I29: =VLOOKUP(C5,$C$4:$L$18,7,FALSE) -> 0 | J29: =VLOOKUP(C5,$C$4:$L$18,8,FALSE) -> 336.564 | K29: =VLOOKUP(C5,$C$4:$L$18,9,FALSE) -> 0 | L29: =VLOOKUP(C5,$C$4:$L$18,10,FALSE) -> 0
C30: Pompa ciepła | D30: =VLOOKUP(C6,$C$4:$L$18,2,FALSE) -> energia elektryczna | E30: =VLOOKUP(C6,$C$4:$L$18,3,FALSE) -> 2.8 | F30: =VLOOKUP(C6,$C$4:$L$18,4,FALSE) -> 3 | G30: =VLOOKUP(C6,$C$4:$L$18,5,FALSE) -> 193.88889 | H30: =VLOOKUP(C6,$C$4:$L$18,6,FALSE) -> 0 | I30: =VLOOKUP(C6,$C$4:$L$18,7,FALSE) -> 0 | J30: =VLOOKUP(C6,$C$4:$L$18,8,FALSE) -> 698 | K30: =VLOOKUP(C6,$C$4:$L$18,9,FALSE) -> 0 | L30: =VLOOKUP(C6,$C$4:$L$18,10,FALSE) -> 0
C31: Kocioł gazowy | D31: =VLOOKUP(C10,$C$4:$L$18,2,FALSE) -> gaz ziemny | E31: =VLOOKUP(C10,$C$4:$L$18,3,FALSE) -> 0.95 | F31: =VLOOKUP(C10,$C$4:$L$18,4,FALSE) -> 1.1 | G31: =VLOOKUP(C10,$C$4:$L$18,5,FALSE) -> 55.44 | H31: =VLOOKUP(C10,$C$4:$L$18,6,FALSE) -> 0.3 | I31: =VLOOKUP(C10,$C$4:$L$18,7,FALSE) -> 0 | J31: =VLOOKUP(C10,$C$4:$L$18,8,FALSE) -> 199.584 | K31: =VLOOKUP(C10,$C$4:$L$18,9,FALSE) -> 1.08 | L31: =VLOOKUP(C10,$C$4:$L$18,10,FALSE) -> 0
C32: Kocioł olejowy | D32: =VLOOKUP(C12,$C$4:$L$18,2,FALSE) -> olej opałowy | E32: =VLOOKUP(C12,$C$4:$L$18,3,FALSE) -> 0.95 | F32: =VLOOKUP(C12,$C$4:$L$18,4,FALSE) -> 1.1 | G32: =VLOOKUP(C12,$C$4:$L$18,5,FALSE) -> 76.56 | H32: =VLOOKUP(C12,$C$4:$L$18,6,FALSE) -> 2 | I32: =VLOOKUP(C12,$C$4:$L$18,7,FALSE) -> 0.00012 | J32: =VLOOKUP(C12,$C$4:$L$18,8,FALSE) -> 275.616 | K32: =VLOOKUP(C12,$C$4:$L$18,9,FALSE) -> 7.2 | L32: =VLOOKUP(C12,$C$4:$L$18,10,FALSE) -> 0.000432
C33: Kocioł na węgiel minimum 5 klasy | D33: =VLOOKUP(C18,$C$4:$L$18,2,FALSE) -> paliwo stałe | E33: =VLOOKUP(C18,$C$4:$L$18,3,FALSE) -> 0.85 | F33: =VLOOKUP(C18,$C$4:$L$18,4,FALSE) -> 1.1 | G33: =VLOOKUP(C18,$C$4:$L$18,5,FALSE) -> 94.77 | H33: =VLOOKUP(C18,$C$4:$L$18,6,FALSE) -> 18 | I33: =VLOOKUP(C18,$C$4:$L$18,7,FALSE) -> 0 | J33: =VLOOKUP(C18,$C$4:$L$18,8,FALSE) -> 341.172 | K33: =VLOOKUP(C18,$C$4:$L$18,9,FALSE) -> 64.8 | L33: =VLOOKUP(C18,$C$4:$L$18,10,FALSE) -> 0
C34: Kocioł na biomasę minimum 5 klasy | D34: =VLOOKUP(C13,$C$4:$L$18,2,FALSE) -> biomasa | E34: =VLOOKUP(C13,$C$4:$L$18,3,FALSE) -> 0.85 | F34: =VLOOKUP(C13,$C$4:$L$18,4,FALSE) -> 1.1 | G34: =VLOOKUP(C13,$C$4:$L$18,5,FALSE) -> 112 | H34: =VLOOKUP(C13,$C$4:$L$18,6,FALSE) -> 16 | I34: =VLOOKUP(C13,$C$4:$L$18,7,FALSE) -> 0 | J34: =VLOOKUP(C13,$C$4:$L$18,8,FALSE) -> 0 | K34: =VLOOKUP(C13,$C$4:$L$18,9,FALSE) -> 57.6 | L34: =VLOOKUP(C13,$C$4:$L$18,10,FALSE) -> 0
C35: Ogrzewanie elektryczne | D35: =VLOOKUP($C35,$C$4:$L$18,2,FALSE) -> energia elektryczna | E35: =VLOOKUP($C35,$C$4:$L$18,3,FALSE) -> 1 | F35: =VLOOKUP($C35,$C$4:$L$18,4,FALSE) -> 3 | G35: =VLOOKUP($C35,$C$4:$L$18,5,FALSE) -> 193.88889 | H35: =VLOOKUP($C35,$C$4:$L$18,6,FALSE) -> 0 | I35: =VLOOKUP($C35,$C$4:$L$18,7,FALSE) -> 0 | J35: =VLOOKUP($C35,$C$4:$L$18,8,FALSE) -> 698 | K35: =VLOOKUP($C35,$C$4:$L$18,9,FALSE) -> 0 | L35: =VLOOKUP($C35,$C$4:$L$18,10,FALSE) -> 0
